Workbook

Sheet Ayarlar
A1: Cevap Anahtarı ve Net Hesabı
A2: Örnek veriyle gelir: 8 öğrenci ve LGS düzeninde 90 soruluk bir anahtar. Kendi sınavınız için örnek satırları silin.
A4: Sınav adı | B4: Örnek LGS Denemesi
A5: Sınav türü | B5: LGS
A6: Kaç yanlış bir doğruyu götürür? | B6: 3 | C6: LGS'de 3, TYT ve AYT'de 4. Yanlış doğruyu götürmüyorsa 0 yazın.
A7: Öğrenci sayısı | B7: =COUNTA(Cevaplar!B4:B503) | C7: Kendiliğinden hesaplanır.
A10: Nasıl kullanılır?
A11: 1. 'Cevap Anahtarı' sayfasında her sorunun dersini, doğru cevabını ve (isterseniz) kazanımını yazın. Ders adları 'Cevaplar' sayfasındaki ders başlıklarıyla aynı olmalı.
A12: 2. Optik okuyucunun dosyasındaki cevap dizisini 'Cevaplar' sayfasının D sütununa yapıştırın. Her harf bir sorudur: 1. harf 1. soru. Boş bırakılan soru boşluk ya da başka bir işaret olabilir.
A13: 3. Doğru, yanlış, net, toplam net ve sıra kendiliğinden hesaplanır. A–E dışındaki işaretler (boşluk, *, -) boş sayılır.
A14: 4. 'Cevap Anahtarı' sayfasında her sorunun doğru yapılma oranı, 'Kazanımlar' sayfasında kazanım başına başarı yüzdesi çıkar.
A15: 5. LGS dışında bir sınav için 'Cevap Anahtarı'ndaki ders adlarını ve 'Cevaplar' sayfasındaki ders başlıklarını değiştirin. 120 soruya ve 500 öğrenciye kadar çalışır.
A17: Bu dosya Skoless'in ücretsiz şablonudur, dilediğiniz gibi kullanıp paylaşabilirsiniz.
A18: Optik okuma, kazanım analizi ve 30'u aşkın raporu tek tıkla almak için: skoless.com

Sheet Cevap Anahtarı
A1: Soru no | B1: Ders | C1: Doğru cevap | D1: Kazanım | E1: Doğru yapan | F1: Yanlış yapan | G1: Boş bırakan | H1: Doğru oranı
A2: 1 | B2: Türkçe | C2: B | D2: Sözcükte anlam | E2: =IF(C2="","",SUMPRODUCT((Cevaplar!$B$4:$B$503<>"")*(MID(Cevaplar!$D$4:$D$503,A2,1)=C2))) | F2: =IF(C2="","",SUMPRODUCT((Cevaplar!$B$4:$B$503<>"")*(MID(Cevaplar!$D$4:$D$503,A2,1)<>"")*ISNUMBER(FIND(UPPER(MID(Cevaplar!$D$4:$D$503,A2,1)),"ABCDE"))*(MID(Cevaplar!$D$4:$D$503,A2,1)<>C2))) | G2: =IF(C2="","",COUNTA(Cevaplar!$B$4:$B$503)-E2-F2) | H2: =IF(OR(C2="",COUNTA(Cevaplar!$B$4:$B$503)=0),"",E2/COUNTA(Cevaplar!$B$4:$B$503))
A3: 2 | B3: Türkçe | C3: D | D3: Sözcükte anlam | E3: =IF(C3="","",SUMPRODUCT((Cevaplar!$B$4:$B$503<>"")*(MID(Cevaplar!$D$4:$D$503,A3,1)=C3))) | F3: =IF(C3="","",SUMPRODUCT((Cevaplar!$B$4:$B$503<>"")*(MID(Cevaplar!$D$4:$D$503,A3,1)<>"")*ISNUMBER(FIND(UPPER(MID(Cevaplar!$D$4:$D$503,A3,1)),"ABCDE"))*(MID(Cevaplar!$D$4:$D$503,A3,1)<>C3))) | G3: =IF(C3="","",COUNTA(Cevaplar!$B$4:$B$503)-E3-F3) | H3: =IF(OR(C3="",COUNTA(Cevaplar!$B$4:$B$503)=0),"",E3/COUNTA(Cevaplar!$B$4:$B$503))
A4: 3 | B4: Türkçe | C4: B | D4: Sözcükte anlam | E4: =IF(C4="","",SUMPRODUCT((Cevaplar!$B$4:$B$503<>"")*(MID(Cevaplar!$D$4:$D$503,A4,1)=C4))) | F4: =IF(C4="","",SUMPRODUCT((Cevaplar!$B$4:$B$503<>"")*(MID(Cevaplar!$D$4:$D$503,A4,1)<>"")*ISNUMBER(FIND(UPPER(MID(Cevaplar!$D$4:$D$503,A4,1)),"ABCDE"))*(MID(Cevaplar!$D$4:$D$503,A4,1)<>C4))) | G4: =IF(C4="","",COUNTA(Cevaplar!$B$4:$B$503)-E4-F4) | H4: =IF(OR(C4="",COUNTA(Cevaplar!$B$4:$B$503)=0),"",E4/COUNTA(Cevaplar!$B$4:$B$503))
A5: 4 | B5: Türkçe | C5: C | D5: Sözcükte anlam | E5: =IF(C5="","",SUMPRODUCT((Cevaplar!$B$4:$B$503<>"")*(MID(Cevaplar!$D$4:$D$503,A5,1)=C5))) | F5: =IF(C5="","",SUMPRODUCT((Cevaplar!$B$4:$B$503<>"")*(MID(Cevaplar!$D$4:$D$503,A5,1)<>"")*ISNUMBER(FIND(UPPER(MID(Cevaplar!$D$4:$D$503,A5,1)),"ABCDE"))*(MID(Cevaplar!$D$4:$D$503,A5,1)<>C5))) | G5: =IF(C5="","",COUNTA(Cevaplar!$B$4:$B$503)-E5-F5) | H5: =IF(OR(C5="",COUNTA(Cevaplar!$B$4:$B$503)=0),"",E5/COUNTA(Cevaplar!$B$4:$B$503))
A6: 5 | B6: Türkçe | C6: A | D6: Sözcükte anlam | E6: =IF(C6="","",SUMPRODUCT((Cevaplar!$B$4:$B$503<>"")*(MID(Cevaplar!$D$4:$D$503,A6,1)=C6))) | F6: =IF(C6="","",SUMPRODUCT((Cevaplar!$B$4:$B$503<>"")*(MID(Cevaplar!$D$4:$D$503,A6,1)<>"")*ISNUMBER(FIND(UPPER(MID(Cevaplar!$D$4:$D$503,A6,1)),"ABCDE"))*(MID(Cevaplar!$D$4:$D$503,A6,1)<>C6))) | G6: =IF(C6="","",COUNTA(Cevaplar!$B$4:$B$503)-E6-F6) | H6: =IF(OR(C6="",COUNTA(Cevaplar!$B$4:$B$503)=0),"",E6/COUNTA(Cevaplar!$B$4:$B$503))
A7: 6 | B7: Türkçe | C7: B | D7: Cümlede anlam | E7: =IF(C7="","",SUMPRODUCT((Cevaplar!$B$4:$B$503<>"")*(MID(Cevaplar!$D$4:$D$503,A7,1)=C7))) | F7: =IF(C7="","",SUMPRODUCT((Cevaplar!$B$4:$B$503<>"")*(MID(Cevaplar!$D$4:$D$503,A7,1)<>"")*ISNUMBER(FIND(UPPER(MID(Cevaplar!$D$4:$D$503,A7,1)),"ABCDE"))*(MID(Cevaplar!$D$4:$D$503,A7,1)<>C7))) | G7: =IF(C7="","",COUNTA(Cevaplar!$B$4:$B$503)-E7-F7) | H7: =IF(OR(C7="",COUNTA(Cevaplar!$B$4:$B$503)=0),"",E7/COUNTA(Cevaplar!$B$4:$B$503))
A8: 7 | B8: Türkçe | C8: D | D8: Cümlede anlam | E8: =IF(C8="","",SUMPRODUCT((Cevaplar!$B$4:$B$503<>"")*(MID(Cevaplar!$D$4:$D$503,A8,1)=C8))) | F8: =IF(C8="","",SUMPRODUCT((Cevaplar!$B$4:$B$503<>"")*(MID(Cevaplar!$D$4:$D$503,A8,1)<>"")*ISNUMBER(FIND(UPPER(MID(Cevaplar!$D$4:$D$503,A8,1)),"ABCDE"))*(MID(Cevaplar!$D$4:$D$503,A8,1)<>C8))) | G8: =IF(C8="","",COUNTA(Cevaplar!$B$4:$B$503)-E8-F8) | H8: =IF(OR(C8="",COUNTA(Cevaplar!$B$4:$B$503)=0),"",E8/COUNTA(Cevaplar!$B$4:$B$503))
A9: 8 | B9: Türkçe | C9: B | D9: Cümlede anlam | E9: =IF(C9="","",SUMPRODUCT((Cevaplar!$B$4:$B$503<>"")*(MID(Cevaplar!$D$4:$D$503,A9,1)=C9))) | F9: =IF(C9="","",SUMPRODUCT((Cevaplar!$B$4:$B$503<>"")*(MID(Cevaplar!$D$4:$D$503,A9,1)<>"")*ISNUMBER(FIND(UPPER(MID(Cevaplar!$D$4:$D$503,A9,1)),"ABCDE"))*(MID(Cevaplar!$D$4:$D$503,A9,1)<>C9))) | G9: =IF(C9="","",COUNTA(Cevaplar!$B$4:$B$503)-E9-F9) | H9: =IF(OR(C9="",COUNTA(Cevaplar!$B$4:$B$503)=0),"",E9/COUNTA(Cevaplar!$B$4:$B$503))
A10: 9 | B10: Türkçe | C10: A | D10: Cümlede anlam | E10: =IF(C10="","",SUMPRODUCT((Cevaplar!$B$4:$B$503<>"")*(MID(Cevaplar!$D$4:$D$503,A10,1)=C10))) | F10: =IF(C10="","",SUMPRODUCT((Cevaplar!$B$4:$B$503<>"")*(MID(Cevaplar!$D$4:$D$503,A10,1)<>"")*ISNUMBER(FIND(UPPER(MID(Cevaplar!$D$4:$D$503,A10,1)),"ABCDE"))*(MID(Cevaplar!$D$4:$D$503,A10,1)<>C10))) | G10: =IF(C10="","",COUNTA(Cevaplar!$B$4:$B$503)-E10-F10) | H10: =IF(OR(C10="",COUNTA(Cevaplar!$B$4:$B$503)=0),"",E10/COUNTA(Cevaplar!$B$4:$B$503))
A11: 10 | B11: Türkçe | C11: D | D11: Cümlede anlam | E11: =IF(C11="","",SUMPRODUCT((Cevaplar!$B$4:$B$503<>"")*(MID(Cevaplar!$D$4:$D$503,A11,1)=C11))) | F11: =IF(C11="","",SUMPRODUCT((Cevaplar!$B$4:$B$503<>"")*(MID(Cevaplar!$D$4:$D$503,A11,1)<>"")*ISNUMBER(FIND(UPPER(MID(Cevaplar!$D$4:$D$503,A11,1)),"ABCDE"))*(MID(Cevaplar!$D$4:$D$503,A11,1)<>C11))) | G11: =IF(C11="","",COUNTA(Cevaplar!$B$4:$B$503)-E11-F11) | H11: =IF(OR(C11="",COUNTA(Cevaplar!$B$4:$B$503)=0),"",E11/COUNTA(Cevaplar!$B$4:$B$503))
A12: 11 | B12: Türkçe | C12: C | D12: Paragraf | E12: =IF(C12="","",SUMPRODUCT((Cevaplar!$B$4:$B$503<>"")*(MID(Cevaplar!$D$4:$D$503,A12,1)=C12))) | F12: =IF(C12="","",SUMPRODUCT((Cevaplar!$B$4:$B$503<>"")*(MID(Cevaplar!$D$4:$D$503,A12,1)<>"")*ISNUMBER(FIND(UPPER(MID(Cevaplar!$D$4:$D$503,A12,1)),"ABCDE"))*(MID(Cevaplar!$D$4:$D$503,A12,1)<>C12))) | G12: =IF(C12="","",COUNTA(Cevaplar!$B$4:$B$503)-E12-F12) | H12: =IF(OR(C12="",COUNTA(Cevaplar!$B$4:$B$503)=0),"",E12/COUNTA(Cevaplar!$B$4:$B$503))
A13: 12 | B13: Türkçe | C13: C | D13: Paragraf | E13: =IF(C13="","",SUMPRODUCT((Cevaplar!$B$4:$B$503<>"")*(MID(Cevaplar!$D$4:$D$503,A13,1)=C13))) | F13: =IF(C13="","",SUMPRODUCT((Cevaplar!$B$4:$B$503<>"")*(MID(Cevaplar!$D$4:$D$503,A13,1)<>"")*ISNUMBER(FIND(UPPER(MID(Cevaplar!$D$4:$D$503,A13,1)),"ABCDE"))*(MID(Cevaplar!$D$4:$D$503,A13,1)<>C13))) | G13: =IF(C13="","",COUNTA(Cevaplar!$B$4:$B$503)-E13-F13) | H13: =IF(OR(C13="",COUNTA(Cevaplar!$B$4:$B$503)=0),"",E13/COUNTA(Cevaplar!$B$4:$B$503))
... A91: 90 | B91: Fen Bilimleri | C91: B | D91: DNA ve genetik kod | E91: =IF(C91="","",SUMPRODUCT((Cevaplar!$B$4:$B$503<>"")*(MID(Cevaplar!$D$4:$D$503,A91,1)=C91))) | F91: =IF(C91="","",SUMPRODUCT((Cevaplar!$B$4:$B$503<>"")*(MID(Cevaplar!$D$4:$D$503,A91,1)<>"")*ISNUMBER(FIND(UPPER(MID(Cevaplar!$D$4:$D$503,A91,1)),"ABCDE"))*(MID(Cevaplar!$D$4:$D$503,A91,1)<>C91))) | G91: =IF(C91="","",COUNTA(Cevaplar!$B$4:$B$503)-E91-F91) | H91: =IF(OR(C91="",COUNTA(Cevaplar!$B$4:$B$503)=0),"",E91/COUNTA(Cevaplar!$B$4:$B$503))
A92: 91 | E92: =IF(C92="","",SUMPRODUCT((Cevaplar!$B$4:$B$503<>"")*(MID(Cevaplar!$D$4:$D$503,A92,1)=C92))) | F92: =IF(C92="","",SUMPRODUCT((Cevaplar!$B$4:$B$503<>"")*(MID(Cevaplar!$D$4:$D$503,A92,1)<>"")*ISNUMBER(FIND(UPPER(MID(Cevaplar!$D$4:$D$503,A92,1)),"ABCDE"))*(MID(Cevaplar!$D$4:$D$503,A92,1)<>C92))) | G92: =IF(C92="","",COUNTA(Cevaplar!$B$4:$B$503)-E92-F92) | H92: =IF(OR(C92="",COUNTA(Cevaplar!$B$4:$B$503)=0),"",E92/COUNTA(Cevaplar!$B$4:$B$503))
A93: 92 | E93: =IF(C93="","",SUMPRODUCT((Cevaplar!$B$4:$B$503<>"")*(MID(Cevaplar!$D$4:$D$503,A93,1)=C93))) | F93: =IF(C93="","",SUMPRODUCT((Cevaplar!$B$4:$B$503<>"")*(MID(Cevaplar!$D$4:$D$503,A93,1)<>"")*ISNUMBER(FIND(UPPER(MID(Cevaplar!$D$4:$D$503,A93,1)),"ABCDE"))*(MID(Cevaplar!$D$4:$D$503,A93,1)<>C93))) | G93: =IF(C93="","",COUNTA(Cevaplar!$B$4:$B$503)-E93-F93) | H93: =IF(OR(C93="",COUNTA(Cevaplar!$B$4:$B$503)=0),"",E93/COUNTA(Cevaplar!$B$4:$B$503))
A94: 93 | E94: =IF(C94="","",SUMPRODUCT((Cevaplar!$B$4:$B$503<>"")*(MID(Cevaplar!$D$4:$D$503,A94,1)=C94))) | F94: =IF(C94="","",SUMPRODUCT((Cevaplar!$B$4:$B$503<>"")*(MID(Cevaplar!$D$4:$D$503,A94,1)<>"")*ISNUMBER(FIND(UPPER(MID(Cevaplar!$D$4:$D$503,A94,1)),"ABCDE"))*(MID(Cevaplar!$D$4:$D$503,A94,1)<>C94))) | G94: =IF(C94="","",COUNTA(Cevaplar!$B$4:$B$503)-E94-F94) | H94: =IF(OR(C94="",COUNTA(Cevaplar!$B$4:$B$503)=0),"",E94/COUNTA(Cevaplar!$B$4:$B$503))
A95: 94 | E95: =IF(C95="","",SUMPRODUCT((Cevaplar!$B$4:$B$503<>"")*(MID(Cevaplar!$D$4:$D$503,A95,1)=C95))) | F95: =IF(C95="","",SUMPRODUCT((Cevaplar!$B$4:$B$503<>"")*(MID(Cevaplar!$D$4:$D$503,A95,1)<>"")*ISNUMBER(FIND(UPPER(MID(Cevaplar!$D$4:$D$503,A95,1)),"ABCDE"))*(MID(Cevaplar!$D$4:$D$503,A95,1)<>C95))) | G95: =IF(C95="","",COUNTA(Cevaplar!$B$4:$B$503)-E95-F95) | H95: =IF(OR(C95="",COUNTA(Cevaplar!$B$4:$B$503)=0),"",E95/COUNTA(Cevaplar!$B$4:$B$503))
A96: 95 | E96: =IF(C96="","",SUMPRODUCT((Cevaplar!$B$4:$B$503<>"")*(MID(Cevaplar!$D$4:$D$503,A96,1)=C96))) | F96: =IF(C96="","",SUMPRODUCT((Cevaplar!$B$4:$B$503<>"")*(MID(Cevaplar!$D$4:$D$503,A96,1)<>"")*ISNUMBER(FIND(UPPER(MID(Cevaplar!$D$4:$D$503,A96,1)),"ABCDE"))*(MID(Cevaplar!$D$4:$D$503,A96,1)<>C96))) | G96: =IF(C96="","",COUNTA(Cevaplar!$B$4:$B$503)-E96-F96) | H96: =IF(OR(C96="",COUNTA(Cevaplar!$B$4:$B$503)=0),"",E96/COUNTA(Cevaplar!$B$4:$B$503))
A97: 96 | E97: =IF(C97="","",SUMPRODUCT((Cevaplar!$B$4:$B$503<>"")*(MID(Cevaplar!$D$4:$D$503,A97,1)=C97))) | F97: =IF(C97="","",SUMPRODUCT((Cevaplar!$B$4:$B$503<>"")*(MID(Cevaplar!$D$4:$D$503,A97,1)<>"")*ISNUMBER(FIND(UPPER(MID(Cevaplar!$D$4:$D$503,A97,1)),"ABCDE"))*(MID(Cevaplar!$D$4:$D$503,A97,1)<>C97))) | G97: =IF(C97="","",COUNTA(Cevaplar!$B$4:$B$503)-E97-F97) | H97: =IF(OR(C97="",COUNTA(Cevaplar!$B$4:$B$503)=0),"",E97/COUNTA(Cevaplar!$B$4:$B$503))
A98: 97 | E98: =IF(C98="","",SUMPRODUCT((Cevaplar!$B$4:$B$503<>"")*(MID(Cevaplar!$D$4:$D$503,A98,1)=C98))) | F98: =IF(C98="","",SUMPRODUCT((Cevaplar!$B$4:$B$503<>"")*(MID(Cevaplar!$D$4:$D$503,A98,1)<>"")*ISNUMBER(FIND(UPPER(MID(Cevaplar!$D$4:$D$503,A98,1)),"ABCDE"))*(MID(Cevaplar!$D$4:$D$503,A98,1)<>C98))) | G98: =IF(C98="","",COUNTA(Cevaplar!$B$4:$B$503)-E98-F98) | H98: =IF(OR(C98="",COUNTA(Cevaplar!$B$4:$B$503)=0),"",E98/COUNTA(Cevaplar!$B$4:$B$503))
A99: 98 | E99: =IF(C99="","",SUMPRODUCT((Cevaplar!$B$4:$B$503<>"")*(MID(Cevaplar!$D$4:$D$503,A99,1)=C99))) | F99: =IF(C99="","",SUMPRODUCT((Cevaplar!$B$4:$B$503<>"")*(MID(Cevaplar!$D$4:$D$503,A99,1)<>"")*ISNUMBER(FIND(UPPER(MID(Cevaplar!$D$4:$D$503,A99,1)),"ABCDE"))*(MID(Cevaplar!$D$4:$D$503,A99,1)<>C99))) | G99: =IF(C99="","",COUNTA(Cevaplar!$B$4:$B$503)-E99-F99) | H99: =IF(OR(C99="",COUNTA(Cevaplar!$B$4:$B$503)=0),"",E99/COUNTA(Cevaplar!$B$4:$B$503))
A100: 99 | E100: =IF(C100="","",SUMPRODUCT((Cevaplar!$B$4:$B$503<>"")*(MID(Cevaplar!$D$4:$D$503,A100,1)=C100))) | F100: =IF(C100="","",SUMPRODUCT((Cevaplar!$B$4:$B$503<>"")*(MID(Cevaplar!$D$4:$D$503,A100,1)<>"")*ISNUMBER(FIND(UPPER(MID(Cevaplar!$D$4:$D$503,A100,1)),"ABCDE"))*(MID(Cevaplar!$D$4:$D$503,A100,1)<>C100))) | G100: =IF(C100="","",COUNTA(Cevaplar!$B$4:$B$503)-E100-F100) | H100: =IF(OR(C100="",COUNTA(Cevaplar!$B$4:$B$503)=0),"",E100/COUNTA(Cevaplar!$B$4:$B$503))
A101: 100 | E101: =IF(C101="","",SUMPRODUCT((Cevaplar!$B$4:$B$503<>"")*(MID(Cevaplar!$D$4:$D$503,A101,1)=C101))) | F101: =IF(C101="","",SUMPRODUCT((Cevaplar!$B$4:$B$503<>"")*(MID(Cevaplar!$D$4:$D$503,A101,1)<>"")*ISNUMBER(FIND(UPPER(MID(Cevaplar!$D$4:$D$503,A101,1)),"ABCDE"))*(MID(Cevaplar!$D$4:$D$503,A101,1)<>C101))) | G101: =IF(C101="","",COUNTA(Cevaplar!$B$4:$B$503)-E101-F101) | H101: =IF(OR(C101="",COUNTA(Cevaplar!$B$4:$B$503)=0),"",E101/COUNTA(Cevaplar!$B$4:$B$503))
A102: 101 | E102: =IF(C102="","",SUMPRODUCT((Cevaplar!$B$4:$B$503<>"")*(MID(Cevaplar!$D$4:$D$503,A102,1)=C102))) | F102: =IF(C102="","",SUMPRODUCT((Cevaplar!$B$4:$B$503<>"")*(MID(Cevaplar!$D$4:$D$503,A102,1)<>"")*ISNUMBER(FIND(UPPER(MID(Cevaplar!$D$4:$D$503,A102,1)),"ABCDE"))*(MID(Cevaplar!$D$4:$D$503,A102,1)<>C102))) | G102: =IF(C102="","",COUNTA(Cevaplar!$B$4:$B$503)-E102-F102) | H102: =IF(OR(C102="",COUNTA(Cevaplar!$B$4:$B$503)=0),"",E102/COUNTA(Cevaplar!$B$4:$B$503))
A103: 102 | E103: =IF(C103="","",SUMPRODUCT((Cevaplar!$B$4:$B$503<>"")*(MID(Cevaplar!$D$4:$D$503,A103,1)=C103))) | F103: =IF(C103="","",SUMPRODUCT((Cevaplar!$B$4:$B$503<>"")*(MID(Cevaplar!$D$4:$D$503,A103,1)<>"")*ISNUMBER(FIND(UPPER(MID(Cevaplar!$D$4:$D$503,A103,1)),"ABCDE"))*(MID(Cevaplar!$D$4:$D$503,A103,1)<>C103))) | G103: =IF(C103="","",COUNTA(Cevaplar!$B$4:$B$503)-E103-F103) | H103: =IF(OR(C103="",COUNTA(Cevaplar!$B$4:$B$503)=0),"",E103/COUNTA(Cevaplar!$B$4:$B$503))
... A121: 120 | E121: =IF(C121="","",SUMPRODUCT((Cevaplar!$B$4:$B$503<>"")*(MID(Cevaplar!$D$4:$D$503,A121,1)=C121))) | F121: =IF(C121="","",SUMPRODUCT((Cevaplar!$B$4:$B$503<>"")*(MID(Cevaplar!$D$4:$D$503,A121,1)<>"")*ISNUMBER(FIND(UPPER(MID(Cevaplar!$D$4:$D$503,A121,1)),"ABCDE"))*(MID(Cevaplar!$D$4:$D$503,A121,1)<>C121))) | G121: =IF(C121="","",COUNTA(Cevaplar!$B$4:$B$503)-E121-F121) | H121: =IF(OR(C121="",COUNTA(Cevaplar!$B$4:$B$503)=0),"",E121/COUNTA(Cevaplar!$B$4:$B$503))

Sheet Cevaplar
A1: Öğrenci cevapları: optik dosyasındaki cevap dizisini D sütununa yapıştırın.
A2: No | B2: Ad Soyad | C2: Şube | D2: Cevaplar | E2: Türkçe | H2: İnkılap Tarihi | K2: Din Kültürü | N2: İngilizce | Q2: Matematik | T2: Fen Bilimleri | W2: Toplam net | X2: Sıra
E3: D | F3: Y | G3: Net | H3: D | I3: Y | J3: Net | K3: D | L3: Y | M3: Net | N3: D | O3: Y | P3: Net | Q3: D | R3: Y | S3: Net | T3: D | U3: Y | V3: Net
A4: 1001 | B4: Ayşe Y. | C4: 8-A | D4: D BCABABAACCCCDDDADD DDBCCBDCB DABDCBDA AADADDBACAACBCAADCABCAAADBAAADCCBCBBCDB DABBCDBCAB | E4: =IF($B4="","",SUMPRODUCT(('Cevap Anahtarı'!$B$2:$B$121=E$2)*('Cevap Anahtarı'!$C$2:$C$121<>"")*(MID($D4,'Cevap Anahtarı'!$A$2:$A$121,1)='Cevap Anahtarı'!$C$2:$C$121))) | F4: =IF($B4="","",SUMPRODUCT(('Cevap Anahtarı'!$B$2:$B$121=E$2)*('Cevap Anahtarı'!$C$2:$C$121<>"")*(MID($D4,'Cevap Anahtarı'!$A$2:$A$121,1)<>"")*ISNUMBER(FIND(UPPER(MID($D4,'Cevap Anahtarı'!$A$2:$A$121,1)),"ABCDE"))*(MID($D4,'Cevap Anahtarı'!$A$2:$A$121,1)<>'Cevap Anahtarı'!$C$2:$C$121))) | G4: =IF($B4="","",ROUND(E4-IF(Ayarlar!$B$6>0,F4/Ayarlar!$B$6,0),2)) | H4: =IF($B4="","",SUMPRODUCT(('Cevap Anahtarı'!$B$2:$B$121=H$2)*('Cevap Anahtarı'!$C$2:$C$121<>"")*(MID($D4,'Cevap Anahtarı'!$A$2:$A$121,1)='Cevap Anahtarı'!$C$2:$C$121))) | I4: =IF($B4="","",SUMPRODUCT(('Cevap Anahtarı'!$B$2:$B$121=H$2)*('Cevap Anahtarı'!$C$2:$C$121<>"")*(MID($D4,'Cevap Anahtarı'!$A$2:$A$121,1)<>"")*ISNUMBER(FIND(UPPER(MID($D4,'Cevap Anahtarı'!$A$2:$A$121,1)),"ABCDE"))*(MID($D4,'Cevap Anahtarı'!$A$2:$A$121,1)<>'Cevap Anahtarı'!$C$2:$C$121))) | J4: =IF($B4="","",ROUND(H4-IF(Ayarlar!$B$6>0,I4/Ayarlar!$B$6,0),2)) | K4: =IF($B4="","",SUMPRODUCT(('Cevap Anahtarı'!$B$2:$B$121=K$2)*('Cevap Anahtarı'!$C$2:$C$121<>"")*(MID($D4,'Cevap Anahtarı'!$A$2:$A$121,1)='Cevap Anahtarı'!$C$2:$C$121))) | L4: =IF($B4="","",SUMPRODUCT(('Cevap Anahtarı'!$B$2:$B$121=K$2)*('Cevap Anahtarı'!$C$2:$C$121<>"")*(MID($D4,'Cevap Anahtarı'!$A$2:$A$121,1)<>"")*ISNUMBER(FIND(UPPER(MID($D4,'Cevap Anahtarı'!$A$2:$A$121,1)),"ABCDE"))*(MID($D4,'Cevap Anahtarı'!$A$2:$A$121,1)<>'Cevap Anahtarı'!$C$2:$C$121))) | M4: =IF($B4="","",ROUND(K4-IF(Ayarlar!$B$6>0,L4/Ayarlar!$B$6,0),2)) | N4: =IF($B4="","",SUMPRODUCT(('Cevap Anahtarı'!$B$2:$B$121=N$2)*('Cevap Anahtarı'!$C$2:$C$121<>"")*(MID($D4,'Cevap Anahtarı'!$A$2:$A$121,1)='Cevap Anahtarı'!$C$2:$C$121))) | O4: =IF($B4="","",SUMPRODUCT(('Cevap Anahtarı'!$B$2:$B$121=N$2)*('Cevap Anahtarı'!$C$2:$C$121<>"")*(MID($D4,'Cevap Anahtarı'!$A$2:$A$121,1)<>"")*ISNUMBER(FIND(UPPER(MID($D4,'Cevap Anahtarı'!$A$2:$A$121,1)),"ABCDE"))*(MID($D4,'Cevap Anahtarı'!$A$2:$A$121,1)<>'Cevap Anahtarı'!$C$2:$C$121))) | P4: =IF($B4="","",ROUND(N4-IF(Ayarlar!$B$6>0,O4/Ayarlar!$B$6,0),2)) | Q4: =IF($B4="","",SUMPRODUCT(('Cevap Anahtarı'!$B$2:$B$121=Q$2)*('Cevap Anahtarı'!$C$2:$C$121<>"")*(MID($D4,'Cevap Anahtarı'!$A$2:$A$121,1)='Cevap Anahtarı'!$C$2:$C$121))) | R4: =IF($B4="","",SUMPRODUCT(('Cevap Anahtarı'!$B$2:$B$121=Q$2)*('Cevap Anahtarı'!$C$2:$C$121<>"")*(MID($D4,'Cevap Anahtarı'!$A$2:$A$121,1)<>"")*ISNUMBER(FIND(UPPER(MID($D4,'Cevap Anahtarı'!$A$2:$A$121,1)),"ABCDE"))*(MID($D4,'Cevap Anahtarı'!$A$2:$A$121,1)<>'Cevap Anahtarı'!$C$2:$C$121))) | S4: =IF($B4="","",ROUND(Q4-IF(Ayarlar!$B$6>0,R4/Ayarlar!$B$6,0),2)) | T4: =IF($B4="","",SUMPRODUCT(('Cevap Anahtarı'!$B$2:$B$121=T$2)*('Cevap Anahtarı'!$C$2:$C$121<>"")*(MID($D4,'Cevap Anahtarı'!$A$2:$A$121,1)='Cevap Anahtarı'!$C$2:$C$121))) | U4: =IF($B4="","",SUMPRODUCT(('Cevap Anahtarı'!$B$2:$B$121=T$2)*('Cevap Anahtarı'!$C$2:$C$121<>"")*(MID($D4,'Cevap Anahtarı'!$A$2:$A$121,1)<>"")*ISNUMBER(FIND(UPPER(MID($D4,'Cevap Anahtarı'!$A$2:$A$121,1)),"ABCDE"))*(MID($D4,'Cevap Anahtarı'!$A$2:$A$121,1)<>'Cevap Anahtarı'!$C$2:$C$121))) | V4: =IF($B4="","",ROUND(T4-IF(Ayarlar!$B$6>0,U4/Ayarlar!$B$6,0),2)) | W4: =IF($B4="","",G4+J4+M4+P4+S4+V4) | X4: =IF($B4="","",RANK(W4,$W$4:$W$503))
A5: 1002 | B5: Mehmet K. | C5: 8-A | D5: BBBCCBACABC B BBBABBDDCCADCCBDD B CD ADBACADDCACCCCBCAADCA CDA DBBAACCBCCDBCDBDDAB CDBCAB | E5: =IF($B5="","",SUMPRODUCT(('Cevap Anahtarı'!$B$2:$B$121=E$2)*('Cevap Anahtarı'!$C$2:$C$121<>"")*(MID($D5,'Cevap Anahtarı'!$A$2:$A$121,1)='Cevap Anahtarı'!$C$2:$C$121))) | F5: =IF($B5="","",SUMPRODUCT(('Cevap Anahtarı'!$B$2:$B$121=E$2)*('Cevap Anahtarı'!$C$2:$C$121<>"")*(MID($D5,'Cevap Anahtarı'!$A$2:$A$121,1)<>"")*ISNUMBER(FIND(UPPER(MID($D5,'Cevap Anahtarı'!$A$2:$A$121,1)),"ABCDE"))*(MID($D5,'Cevap Anahtarı'!$A$2:$A$121,1)<>'Cevap Anahtarı'!$C$2:$C$121))) | G5: =IF($B5="","",ROUND(E5-IF(Ayarlar!$B$6>0,F5/Ayarlar!$B$6,0),2)) | H5: =IF($B5="","",SUMPRODUCT(('Cevap Anahtarı'!$B$2:$B$121=H$2)*('Cevap Anahtarı'!$C$2:$C$121<>"")*(MID($D5,'Cevap Anahtarı'!$A$2:$A$121,1)='Cevap Anahtarı'!$C$2:$C$121))) | I5: =IF($B5="","",SUMPRODUCT(('Cevap Anahtarı'!$B$2:$B$121=H$2)*('Cevap Anahtarı'!$C$2:$C$121<>"")*(MID($D5,'Cevap Anahtarı'!$A$2:$A$121,1)<>"")*ISNUMBER(FIND(UPPER(MID($D5,'Cevap Anahtarı'!$A$2:$A$121,1)),"ABCDE"))*(MID($D5,'Cevap Anahtarı'!$A$2:$A$121,1)<>'Cevap Anahtarı'!$C$2:$C$121))) | J5: =IF($B5="","",ROUND(H5-IF(Ayarlar!$B$6>0,I5/Ayarlar!$B$6,0),2)) | K5: =IF($B5="","",SUMPRODUCT(('Cevap Anahtarı'!$B$2:$B$121=K$2)*('Cevap Anahtarı'!$C$2:$C$121<>"")*(MID($D5,'Cevap Anahtarı'!$A$2:$A$121,1)='Cevap Anahtarı'!$C$2:$C$121))) | L5: =IF($B5="","",SUMPRODUCT(('Cevap Anahtarı'!$B$2:$B$121=K$2)*('Cevap Anahtarı'!$C$2:$C$121<>"")*(MID($D5,'Cevap Anahtarı'!$A$2:$A$121,1)<>"")*ISNUMBER(FIND(UPPER(MID($D5,'Cevap Anahtarı'!$A$2:$A$121,1)),"ABCDE"))*(MID($D5,'Cevap Anahtarı'!$A$2:$A$121,1)<>'Cevap Anahtarı'!$C$2:$C$121))) | M5: =IF($B5="","",ROUND(K5-IF(Ayarlar!$B$6>0,L5/Ayarlar!$B$6,0),2)) | N5: =IF($B5="","",SUMPRODUCT(('Cevap Anahtarı'!$B$2:$B$121=N$2)*('Cevap Anahtarı'!$C$2:$C$121<>"")*(MID($D5,'Cevap Anahtarı'!$A$2:$A$121,1)='Cevap Anahtarı'!$C$2:$C$121))) | O5: =IF($B5="","",SUMPRODUCT(('Cevap Anahtarı'!$B$2:$B$121=N$2)*('Cevap Anahtarı'!$C$2:$C$121<>"")*(MID($D5,'Cevap Anahtarı'!$A$2:$A$121,1)<>"")*ISNUMBER(FIND(UPPER(MID($D5,'Cevap Anahtarı'!$A$2:$A$121,1)),"ABCDE"))*(MID($D5,'Cevap Anahtarı'!$A$2:$A$121,1)<>'Cevap Anahtarı'!$C$2:$C$121))) | P5: =IF($B5="","",ROUND(N5-IF(Ayarlar!$B$6>0,O5/Ayarlar!$B$6,0),2)) | Q5: =IF($B5="","",SUMPRODUCT(('Cevap Anahtarı'!$B$2:$B$121=Q$2)*('Cevap Anahtarı'!$C$2:$C$121<>"")*(MID($D5,'Cevap Anahtarı'!$A$2:$A$121,1)='Cevap Anahtarı'!$C$2:$C$121))) | R5: =IF($B5="","",SUMPRODUCT(('Cevap Anahtarı'!$B$2:$B$121=Q$2)*('Cevap Anahtarı'!$C$2:$C$121<>"")*(MID($D5,'Cevap Anahtarı'!$A$2:$A$121,1)<>"")*ISNUMBER(FIND(UPPER(MID($D5,'Cevap Anahtarı'!$A$2:$A$121,1)),"ABCDE"))*(MID($D5,'Cevap Anahtarı'!$A$2:$A$121,1)<>'Cevap Anahtarı'!$C$2:$C$121))) | S5: =IF($B5="","",ROUND(Q5-IF(Ayarlar!$B$6>0,R5/Ayarlar!$B$6,0),2)) | T5: =IF($B5="","",SUMPRODUCT(('Cevap Anahtarı'!$B$2:$B$121=T$2)*('Cevap Anahtarı'!$C$2:$C$121<>"")*(MID($D5,'Cevap Anahtarı'!$A$2:$A$121,1)='Cevap Anahtarı'!$C$2:$C$121))) | U5: =IF($B5="","",SUMPRODUCT(('Cevap Anahtarı'!$B$2:$B$121=T$2)*('Cevap Anahtarı'!$C$2:$C$121<>"")*(MID($D5,'Cevap Anahtarı'!$A$2:$A$121,1)<>"")*ISNUMBER(FIND(UPPER(MID($D5,'Cevap Anahtarı'!$A$2:$A$121,1)),"ABCDE"))*(MID($D5,'Cevap Anahtarı'!$A$2:$A$121,1)<>'Cevap Anahtarı'!$C$2:$C$121))) | V5: =IF($B5="","",ROUND(T5-IF(Ayarlar!$B$6>0,U5/Ayarlar!$B$6,0),2)) | W5: =IF($B5="","",G5+J5+M5+P5+S5+V5) | X5: =IF($B5="","",RANK(W5,$W$4:$W$503))
A6: 1003 | B6: Zeynep A. | C6: 8-A | D6: BDBDAA B ACCCCDDDCCDBDD CD CC DDBBDBDDD ACDADDBAC ABBCCADCACC ABDBCAADCCBABBCDBDB AACDBC B | E6: =IF($B6="","",SUMPRODUCT(('Cevap Anahtarı'!$B$2:$B$121=E$2)*('Cevap Anahtarı'!$C$2:$C$121<>"")*(MID($D6,'Cevap Anahtarı'!$A$2:$A$121,1)='Cevap Anahtarı'!$C$2:$C$121))) | F6: =IF($B6="","",SUMPRODUCT(('Cevap Anahtarı'!$B$2:$B$121=E$2)*('Cevap Anahtarı'!$C$2:$C$121<>"")*(MID($D6,'Cevap Anahtarı'!$A$2:$A$121,1)<>"")*ISNUMBER(FIND(UPPER(MID($D6,'Cevap Anahtarı'!$A$2:$A$121,1)),"ABCDE"))*(MID($D6,'Cevap Anahtarı'!$A$2:$A$121,1)<>'Cevap Anahtarı'!$C$2:$C$121))) | G6: =IF($B6="","",ROUND(E6-IF(Ayarlar!$B$6>0,F6/Ayarlar!$B$6,0),2)) | H6: =IF($B6="","",SUMPRODUCT(('Cevap Anahtarı'!$B$2:$B$121=H$2)*('Cevap Anahtarı'!$C$2:$C$121<>"")*(MID($D6,'Cevap Anahtarı'!$A$2:$A$121,1)='Cevap Anahtarı'!$C$2:$C$121))) | I6: =IF($B6="","",SUMPRODUCT(('Cevap Anahtarı'!$B$2:$B$121=H$2)*('Cevap Anahtarı'!$C$2:$C$121<>"")*(MID($D6,'Cevap Anahtarı'!$A$2:$A$121,1)<>"")*ISNUMBER(FIND(UPPER(MID($D6,'Cevap Anahtarı'!$A$2:$A$121,1)),"ABCDE"))*(MID($D6,'Cevap Anahtarı'!$A$2:$A$121,1)<>'Cevap Anahtarı'!$C$2:$C$121))) | J6: =IF($B6="","",ROUND(H6-IF(Ayarlar!$B$6>0,I6/Ayarlar!$B$6,0),2)) | K6: =IF($B6="","",SUMPRODUCT(('Cevap Anahtarı'!$B$2:$B$121=K$2)*('Cevap Anahtarı'!$C$2:$C$121<>"")*(MID($D6,'Cevap Anahtarı'!$A$2:$A$121,1)='Cevap Anahtarı'!$C$2:$C$121))) | L6: =IF($B6="","",SUMPRODUCT(('Cevap Anahtarı'!$B$2:$B$121=K$2)*('Cevap Anahtarı'!$C$2:$C$121<>"")*(MID($D6,'Cevap Anahtarı'!$A$2:$A$121,1)<>"")*ISNUMBER(FIND(UPPER(MID($D6,'Cevap Anahtarı'!$A$2:$A$121,1)),"ABCDE"))*(MID($D6,'Cevap Anahtarı'!$A$2:$A$121,1)<>'Cevap Anahtarı'!$C$2:$C$121))) | M6: =IF($B6="","",ROUND(K6-IF(Ayarlar!$B$6>0,L6/Ayarlar!$B$6,0),2)) | N6: =IF($B6="","",SUMPRODUCT(('Cevap Anahtarı'!$B$2:$B$121=N$2)*('Cevap Anahtarı'!$C$2:$C$121<>"")*(MID($D6,'Cevap Anahtarı'!$A$2:$A$121,1)='Cevap Anahtarı'!$C$2:$C$121))) | O6: =IF($B6="","",SUMPRODUCT(('Cevap Anahtarı'!$B$2:$B$121=N$2)*('Cevap Anahtarı'!$C$2:$C$121<>"")*(MID($D6,'Cevap Anahtarı'!$A$2:$A$121,1)<>"")*ISNUMBER(FIND(UPPER(MID($D6,'Cevap Anahtarı'!$A$2:$A$121,1)),"ABCDE"))*(MID($D6,'Cevap Anahtarı'!$A$2:$A$121,1)<>'Cevap Anahtarı'!$C$2:$C$121))) | P6: =IF($B6="","",ROUND(N6-IF(Ayarlar!$B$6>0,O6/Ayarlar!$B$6,0),2)) | Q6: =IF($B6="","",SUMPRODUCT(('Cevap Anahtarı'!$B$2:$B$121=Q$2)*('Cevap Anahtarı'!$C$2:$C$121<>"")*(MID($D6,'Cevap Anahtarı'!$A$2:$A$121,1)='Cevap Anahtarı'!$C$2:$C$121))) | R6: =IF($B6="","",SUMPRODUCT(('Cevap Anahtarı'!$B$2:$B$121=Q$2)*('Cevap Anahtarı'!$C$2:$C$121<>"")*(MID($D6,'Cevap Anahtarı'!$A$2:$A$121,1)<>"")*ISNUMBER(FIND(UPPER(MID($D6,'Cevap Anahtarı'!$A$2:$A$121,1)),"ABCDE"))*(MID($D6,'Cevap Anahtarı'!$A$2:$A$121,1)<>'Cevap Anahtarı'!$C$2:$C$121))) | S6: =IF($B6="","",ROUND(Q6-IF(Ayarlar!$B$6>0,R6/Ayarlar!$B$6,0),2)) | T6: =IF($B6="","",SUMPRODUCT(('Cevap Anahtarı'!$B$2:$B$121=T$2)*('Cevap Anahtarı'!$C$2:$C$121<>"")*(MID($D6,'Cevap Anahtarı'!$A$2:$A$121,1)='Cevap Anahtarı'!$C$2:$C$121))) | U6: =IF($B6="","",SUMPRODUCT(('Cevap Anahtarı'!$B$2:$B$121=T$2)*('Cevap Anahtarı'!$C$2:$C$121<>"")*(MID($D6,'Cevap Anahtarı'!$A$2:$A$121,1)<>"")*ISNUMBER(FIND(UPPER(MID($D6,'Cevap Anahtarı'!$A$2:$A$121,1)),"ABCDE"))*(MID($D6,'Cevap Anahtarı'!$A$2:$A$121,1)<>'Cevap Anahtarı'!$C$2:$C$121))) | V6: =IF($B6="","",ROUND(T6-IF(Ayarlar!$B$6>0,U6/Ayarlar!$B$6,0),2)) | W6: =IF($B6="","",G6+J6+M6+P6+S6+V6) | X6: =IF($B6="","",RANK(W6,$W$4:$W$503))
A7: 1004 | B7: Can D. | C7: 8-A | D7: BB ADBDDCC CDCDA CA DC D AD DBAADBAD BBDADBCC CBCBBDBABCAD C CABB BADADCBCD BACBB | E7: =IF($B7="","",SUMPRODUCT(('Cevap Anahtarı'!$B$2:$B$121=E$2)*('Cevap Anahtarı'!$C$2:$C$121<>"")*(MID($D7,'Cevap Anahtarı'!$A$2:$A$121,1)='Cevap Anahtarı'!$C$2:$C$121))) | F7: =IF($B7="","",SUMPRODUCT(('Cevap Anahtarı'!$B$2:$B$121=E$2)*('Cevap Anahtarı'!$C$2:$C$121<>"")*(MID($D7,'Cevap Anahtarı'!$A$2:$A$121,1)<>"")*ISNUMBER(FIND(UPPER(MID($D7,'Cevap Anahtarı'!$A$2:$A$121,1)),"ABCDE"))*(MID($D7,'Cevap Anahtarı'!$A$2:$A$121,1)<>'Cevap Anahtarı'!$C$2:$C$121))) | G7: =IF($B7="","",ROUND(E7-IF(Ayarlar!$B$6>0,F7/Ayarlar!$B$6,0),2)) | H7: =IF($B7="","",SUMPRODUCT(('Cevap Anahtarı'!$B$2:$B$121=H$2)*('Cevap Anahtarı'!$C$2:$C$121<>"")*(MID($D7,'Cevap Anahtarı'!$A$2:$A$121,1)='Cevap Anahtarı'!$C$2:$C$121))) | I7: =IF($B7="","",SUMPRODUCT(('Cevap Anahtarı'!$B$2:$B$121=H$2)*('Cevap Anahtarı'!$C$2:$C$121<>"")*(MID($D7,'Cevap Anahtarı'!$A$2:$A$121,1)<>"")*ISNUMBER(FIND(UPPER(MID($D7,'Cevap Anahtarı'!$A$2:$A$121,1)),"ABCDE"))*(MID($D7,'Cevap Anahtarı'!$A$2:$A$121,1)<>'Cevap Anahtarı'!$C$2:$C$121))) | J7: =IF($B7="","",ROUND(H7-IF(Ayarlar!$B$6>0,I7/Ayarlar!$B$6,0),2)) | K7: =IF($B7="","",SUMPRODUCT(('Cevap Anahtarı'!$B$2:$B$121=K$2)*('Cevap Anahtarı'!$C$2:$C$121<>"")*(MID($D7,'Cevap Anahtarı'!$A$2:$A$121,1)='Cevap Anahtarı'!$C$2:$C$121))) | L7: =IF($B7="","",SUMPRODUCT(('Cevap Anahtarı'!$B$2:$B$121=K$2)*('Cevap Anahtarı'!$C$2:$C$121<>"")*(MID($D7,'Cevap Anahtarı'!$A$2:$A$121,1)<>"")*ISNUMBER(FIND(UPPER(MID($D7,'Cevap Anahtarı'!$A$2:$A$121,1)),"ABCDE"))*(MID($D7,'Cevap Anahtarı'!$A$2:$A$121,1)<>'Cevap Anahtarı'!$C$2:$C$121))) | M7: =IF($B7="","",ROUND(K7-IF(Ayarlar!$B$6>0,L7/Ayarlar!$B$6,0),2)) | N7: =IF($B7="","",SUMPRODUCT(('Cevap Anahtarı'!$B$2:$B$121=N$2)*('Cevap Anahtarı'!$C$2:$C$121<>"")*(MID($D7,'Cevap Anahtarı'!$A$2:$A$121,1)='Cevap Anahtarı'!$C$2:$C$121))) | O7: =IF($B7="","",SUMPRODUCT(('Cevap Anahtarı'!$B$2:$B$121=N$2)*('Cevap Anahtarı'!$C$2:$C$121<>"")*(MID($D7,'Cevap Anahtarı'!$A$2:$A$121,1)<>"")*ISNUMBER(FIND(UPPER(MID($D7,'Cevap Anahtarı'!$A$2:$A$121,1)),"ABCDE"))*(MID($D7,'Cevap Anahtarı'!$A$2:$A$121,1)<>'Cevap Anahtarı'!$C$2:$C$121))) | P7: =IF($B7="","",ROUND(N7-IF(Ayarlar!$B$6>0,O7/Ayarlar!$B$6,0),2)) | Q7: =IF($B7="","",SUMPRODUCT(('Cevap Anahtarı'!$B$2:$B$121=Q$2)*('Cevap Anahtarı'!$C$2:$C$121<>"")*(MID($D7,'Cevap Anahtarı'!$A$2:$A$121,1)='Cevap Anahtarı'!$C$2:$C$121))) | R7: =IF($B7="","",SUMPRODUCT(('Cevap Anahtarı'!$B$2:$B$121=Q$2)*('Cevap Anahtarı'!$C$2:$C$121<>"")*(MID($D7,'Cevap Anahtarı'!$A$2:$A$121,1)<>"")*ISNUMBER(FIND(UPPER(MID($D7,'Cevap Anahtarı'!$A$2:$A$121,1)),"ABCDE"))*(MID($D7,'Cevap Anahtarı'!$A$2:$A$121,1)<>'Cevap Anahtarı'!$C$2:$C$121))) | S7: =IF($B7="","",ROUND(Q7-IF(Ayarlar!$B$6>0,R7/Ayarlar!$B$6,0),2)) | T7: =IF($B7="","",SUMPRODUCT(('Cevap Anahtarı'!$B$2:$B$121=T$2)*('Cevap Anahtarı'!$C$2:$C$121<>"")*(MID($D7,'Cevap Anahtarı'!$A$2:$A$121,1)='Cevap Anahtarı'!$C$2:$C$121))) | U7: =IF($B7="","",SUMPRODUCT(('Cevap Anahtarı'!$B$2:$B$121=T$2)*('Cevap Anahtarı'!$C$2:$C$121<>"")*(MID($D7,'Cevap Anahtarı'!$A$2:$A$121,1)<>"")*ISNUMBER(FIND(UPPER(MID($D7,'Cevap Anahtarı'!$A$2:$A$121,1)),"ABCDE"))*(MID($D7,'Cevap Anahtarı'!$A$2:$A$121,1)<>'Cevap Anahtarı'!$C$2:$C$121))) | V7: =IF($B7="","",ROUND(T7-IF(Ayarlar!$B$6>0,U7/Ayarlar!$B$6,0),2)) | W7: =IF($B7="","",G7+J7+M7+P7+S7+V7) | X7: =IF($B7="","",RANK(W7,$W$4:$W$503))
A8: 1005 | B8: Elif S. | C8: 8-B | D8: BDBCABDBADCDCCDDDADDBDDBCCDCCBDDABDC DADAAD DDBACCACBCAADCABCAABDBCAADCC CCDCDBDDABACDBCAB | E8: =IF($B8="","",SUMPRODUCT(('Cevap Anahtarı'!$B$2:$B$121=E$2)*('Cevap Anahtarı'!$C$2:$C$121<>"")*(MID($D8,'Cevap Anahtarı'!$A$2:$A$121,1)='Cevap Anahtarı'!$C$2:$C$121))) | F8: =IF($B8="","",SUMPRODUCT(('Cevap Anahtarı'!$B$2:$B$121=E$2)*('Cevap Anahtarı'!$C$2:$C$121<>"")*(MID($D8,'Cevap Anahtarı'!$A$2:$A$121,1)<>"")*ISNUMBER(FIND(UPPER(MID($D8,'Cevap Anahtarı'!$A$2:$A$121,1)),"ABCDE"))*(MID($D8,'Cevap Anahtarı'!$A$2:$A$121,1)<>'Cevap Anahtarı'!$C$2:$C$121))) | G8: =IF($B8="","",ROUND(E8-IF(Ayarlar!$B$6>0,F8/Ayarlar!$B$6,0),2)) | H8: =IF($B8="","",SUMPRODUCT(('Cevap Anahtarı'!$B$2:$B$121=H$2)*('Cevap Anahtarı'!$C$2:$C$121<>"")*(MID($D8,'Cevap Anahtarı'!$A$2:$A$121,1)='Cevap Anahtarı'!$C$2:$C$121))) | I8: =IF($B8="","",SUMPRODUCT(('Cevap Anahtarı'!$B$2:$B$121=H$2)*('Cevap Anahtarı'!$C$2:$C$121<>"")*(MID($D8,'Cevap Anahtarı'!$A$2:$A$121,1)<>"")*ISNUMBER(FIND(UPPER(MID($D8,'Cevap Anahtarı'!$A$2:$A$121,1)),"ABCDE"))*(MID($D8,'Cevap Anahtarı'!$A$2:$A$121,1)<>'Cevap Anahtarı'!$C$2:$C$121))) | J8: =IF($B8="","",ROUND(H8-IF(Ayarlar!$B$6>0,I8/Ayarlar!$B$6,0),2)) | K8: =IF($B8="","",SUMPRODUCT(('Cevap Anahtarı'!$B$2:$B$121=K$2)*('Cevap Anahtarı'!$C$2:$C$121<>"")*(MID($D8,'Cevap Anahtarı'!$A$2:$A$121,1)='Cevap Anahtarı'!$C$2:$C$121))) | L8: =IF($B8="","",SUMPRODUCT(('Cevap Anahtarı'!$B$2:$B$121=K$2)*('Cevap Anahtarı'!$C$2:$C$121<>"")*(MID($D8,'Cevap Anahtarı'!$A$2:$A$121,1)<>"")*ISNUMBER(FIND(UPPER(MID($D8,'Cevap Anahtarı'!$A$2:$A$121,1)),"ABCDE"))*(MID($D8,'Cevap Anahtarı'!$A$2:$A$121,1)<>'Cevap Anahtarı'!$C$2:$C$121))) | M8: =IF($B8="","",ROUND(K8-IF(Ayarlar!$B$6>0,L8/Ayarlar!$B$6,0),2)) | N8: =IF($B8="","",SUMPRODUCT(('Cevap Anahtarı'!$B$2:$B$121=N$2)*('Cevap Anahtarı'!$C$2:$C$121<>"")*(MID($D8,'Cevap Anahtarı'!$A$2:$A$121,1)='Cevap Anahtarı'!$C$2:$C$121))) | O8: =IF($B8="","",SUMPRODUCT(('Cevap Anahtarı'!$B$2:$B$121=N$2)*('Cevap Anahtarı'!$C$2:$C$121<>"")*(MID($D8,'Cevap Anahtarı'!$A$2:$A$121,1)<>"")*ISNUMBER(FIND(UPPER(MID($D8,'Cevap Anahtarı'!$A$2:$A$121,1)),"ABCDE"))*(MID($D8,'Cevap Anahtarı'!$A$2:$A$121,1)<>'Cevap Anahtarı'!$C$2:$C$121))) | P8: =IF($B8="","",ROUND(N8-IF(Ayarlar!$B$6>0,O8/Ayarlar!$B$6,0),2)) | Q8: =IF($B8="","",SUMPRODUCT(('Cevap Anahtarı'!$B$2:$B$121=Q$2)*('Cevap Anahtarı'!$C$2:$C$121<>"")*(MID($D8,'Cevap Anahtarı'!$A$2:$A$121,1)='Cevap Anahtarı'!$C$2:$C$121))) | R8: =IF($B8="","",SUMPRODUCT(('Cevap Anahtarı'!$B$2:$B$121=Q$2)*('Cevap Anahtarı'!$C$2:$C$121<>"")*(MID($D8,'Cevap Anahtarı'!$A$2:$A$121,1)<>"")*ISNUMBER(FIND(UPPER(MID($D8,'Cevap Anahtarı'!$A$2:$A$121,1)),"ABCDE"))*(MID($D8,'Cevap Anahtarı'!$A$2:$A$121,1)<>'Cevap Anahtarı'!$C$2:$C$121))) | S8: =IF($B8="","",ROUND(Q8-IF(Ayarlar!$B$6>0,R8/Ayarlar!$B$6,0),2)) | T8: =IF($B8="","",SUMPRODUCT(('Cevap Anahtarı'!$B$2:$B$121=T$2)*('Cevap Anahtarı'!$C$2:$C$121<>"")*(MID($D8,'Cevap Anahtarı'!$A$2:$A$121,1)='Cevap Anahtarı'!$C$2:$C$121))) | U8: =IF($B8="","",SUMPRODUCT(('Cevap Anahtarı'!$B$2:$B$121=T$2)*('Cevap Anahtarı'!$C$2:$C$121<>"")*(MID($D8,'Cevap Anahtarı'!$A$2:$A$121,1)<>"")*ISNUMBER(FIND(UPPER(MID($D8,'Cevap Anahtarı'!$A$2:$A$121,1)),"ABCDE"))*(MID($D8,'Cevap Anahtarı'!$A$2:$A$121,1)<>'Cevap Anahtarı'!$C$2:$C$121))) | V8: =IF($B8="","",ROUND(T8-IF(Ayarlar!$B$6>0,U8/Ayarlar!$B$6,0),2)) | W8: =IF($B8="","",G8+J8+M8+P8+S8+V8) | X8: =IF($B8="","",RANK(W8,$W$4:$W$503))
A9: 1006 | B9: Burak T. | C9: 8-B | D9: BABCACDBDBCCCCDDBA CBBCDAC CCADC DA A ABD BAC ACBB A ABCDC ABCDADCCACB CDBC BBADBBCAB | E9: =IF($B9="","",SUMPRODUCT(('Cevap Anahtarı'!$B$2:$B$121=E$2)*('Cevap Anahtarı'!$C$2:$C$121<>"")*(MID($D9,'Cevap Anahtarı'!$A$2:$A$121,1)='Cevap Anahtarı'!$C$2:$C$121))) | F9: =IF($B9="","",SUMPRODUCT(('Cevap Anahtarı'!$B$2:$B$121=E$2)*('Cevap Anahtarı'!$C$2:$C$121<>"")*(MID($D9,'Cevap Anahtarı'!$A$2:$A$121,1)<>"")*ISNUMBER(FIND(UPPER(MID($D9,'Cevap Anahtarı'!$A$2:$A$121,1)),"ABCDE"))*(MID($D9,'Cevap Anahtarı'!$A$2:$A$121,1)<>'Cevap Anahtarı'!$C$2:$C$121))) | G9: =IF($B9="","",ROUND(E9-IF(Ayarlar!$B$6>0,F9/Ayarlar!$B$6,0),2)) | H9: =IF($B9="","",SUMPRODUCT(('Cevap Anahtarı'!$B$2:$B$121=H$2)*('Cevap Anahtarı'!$C$2:$C$121<>"")*(MID($D9,'Cevap Anahtarı'!$A$2:$A$121,1)='Cevap Anahtarı'!$C$2:$C$121))) | I9: =IF($B9="","",SUMPRODUCT(('Cevap Anahtarı'!$B$2:$B$121=H$2)*('Cevap Anahtarı'!$C$2:$C$121<>"")*(MID($D9,'Cevap Anahtarı'!$A$2:$A$121,1)<>"")*ISNUMBER(FIND(UPPER(MID($D9,'Cevap Anahtarı'!$A$2:$A$121,1)),"ABCDE"))*(MID($D9,'Cevap Anahtarı'!$A$2:$A$121,1)<>'Cevap Anahtarı'!$C$2:$C$121))) | J9: =IF($B9="","",ROUND(H9-IF(Ayarlar!$B$6>0,I9/Ayarlar!$B$6,0),2)) | K9: =IF($B9="","",SUMPRODUCT(('Cevap Anahtarı'!$B$2:$B$121=K$2)*('Cevap Anahtarı'!$C$2:$C$121<>"")*(MID($D9,'Cevap Anahtarı'!$A$2:$A$121,1)='Cevap Anahtarı'!$C$2:$C$121))) | L9: =IF($B9="","",SUMPRODUCT(('Cevap Anahtarı'!$B$2:$B$121=K$2)*('Cevap Anahtarı'!$C$2:$C$121<>"")*(MID($D9,'Cevap Anahtarı'!$A$2:$A$121,1)<>"")*ISNUMBER(FIND(UPPER(MID($D9,'Cevap Anahtarı'!$A$2:$A$121,1)),"ABCDE"))*(MID($D9,'Cevap Anahtarı'!$A$2:$A$121,1)<>'Cevap Anahtarı'!$C$2:$C$121))) | M9: =IF($B9="","",ROUND(K9-IF(Ayarlar!$B$6>0,L9/Ayarlar!$B$6,0),2)) | N9: =IF($B9="","",SUMPRODUCT(('Cevap Anahtarı'!$B$2:$B$121=N$2)*('Cevap Anahtarı'!$C$2:$C$121<>"")*(MID($D9,'Cevap Anahtarı'!$A$2:$A$121,1)='Cevap Anahtarı'!$C$2:$C$121))) | O9: =IF($B9="","",SUMPRODUCT(('Cevap Anahtarı'!$B$2:$B$121=N$2)*('Cevap Anahtarı'!$C$2:$C$121<>"")*(MID($D9,'Cevap Anahtarı'!$A$2:$A$121,1)<>"")*ISNUMBER(FIND(UPPER(MID($D9,'Cevap Anahtarı'!$A$2:$A$121,1)),"ABCDE"))*(MID($D9,'Cevap Anahtarı'!$A$2:$A$121,1)<>'Cevap Anahtarı'!$C$2:$C$121))) | P9: =IF($B9="","",ROUND(N9-IF(Ayarlar!$B$6>0,O9/Ayarlar!$B$6,0),2)) | Q9: =IF($B9="","",SUMPRODUCT(('Cevap Anahtarı'!$B$2:$B$121=Q$2)*('Cevap Anahtarı'!$C$2:$C$121<>"")*(MID($D9,'Cevap Anahtarı'!$A$2:$A$121,1)='Cevap Anahtarı'!$C$2:$C$121))) | R9: =IF($B9="","",SUMPRODUCT(('Cevap Anahtarı'!$B$2:$B$121=Q$2)*('Cevap Anahtarı'!$C$2:$C$121<>"")*(MID($D9,'Cevap Anahtarı'!$A$2:$A$121,1)<>"")*ISNUMBER(FIND(UPPER(MID($D9,'Cevap Anahtarı'!$A$2:$A$121,1)),"ABCDE"))*(MID($D9,'Cevap Anahtarı'!$A$2:$A$121,1)<>'Cevap Anahtarı'!$C$2:$C$121))) | S9: =IF($B9="","",ROUND(Q9-IF(Ayarlar!$B$6>0,R9/Ayarlar!$B$6,0),2)) | T9: =IF($B9="","",SUMPRODUCT(('Cevap Anahtarı'!$B$2:$B$121=T$2)*('Cevap Anahtarı'!$C$2:$C$121<>"")*(MID($D9,'Cevap Anahtarı'!$A$2:$A$121,1)='Cevap Anahtarı'!$C$2:$C$121))) | U9: =IF($B9="","",SUMPRODUCT(('Cevap Anahtarı'!$B$2:$B$121=T$2)*('Cevap Anahtarı'!$C$2:$C$121<>"")*(MID($D9,'Cevap Anahtarı'!$A$2:$A$121,1)<>"")*ISNUMBER(FIND(UPPER(MID($D9,'Cevap Anahtarı'!$A$2:$A$121,1)),"ABCDE"))*(MID($D9,'Cevap Anahtarı'!$A$2:$A$121,1)<>'Cevap Anahtarı'!$C$2:$C$121))) | V9: =IF($B9="","",ROUND(T9-IF(Ayarlar!$B$6>0,U9/Ayarlar!$B$6,0),2)) | W9: =IF($B9="","",G9+J9+M9+P9+S9+V9) | X9: =IF($B9="","",RANK(W9,$W$4:$W$503))
A10: 1007 | B10: Deniz Ö. | C10: 8-B | D10: BBB ABDAADC CCDDDDCD AABCCDDABDDAADCDDD AADABDCB CACBCCACAABBAABDCCAAD CB B CDDDBBCABBCCC | E10: =IF($B10="","",SUMPRODUCT(('Cevap Anahtarı'!$B$2:$B$121=E$2)*('Cevap Anahtarı'!$C$2:$C$121<>"")*(MID($D10,'Cevap Anahtarı'!$A$2:$A$121,1)='Cevap Anahtarı'!$C$2:$C$121))) | F10: =IF($B10="","",SUMPRODUCT(('Cevap Anahtarı'!$B$2:$B$121=E$2)*('Cevap Anahtarı'!$C$2:$C$121<>"")*(MID($D10,'Cevap Anahtarı'!$A$2:$A$121,1)<>"")*ISNUMBER(FIND(UPPER(MID($D10,'Cevap Anahtarı'!$A$2:$A$121,1)),"ABCDE"))*(MID($D10,'Cevap Anahtarı'!$A$2:$A$121,1)<>'Cevap Anahtarı'!$C$2:$C$121))) | G10: =IF($B10="","",ROUND(E10-IF(Ayarlar!$B$6>0,F10/Ayarlar!$B$6,0),2)) | H10: =IF($B10="","",SUMPRODUCT(('Cevap Anahtarı'!$B$2:$B$121=H$2)*('Cevap Anahtarı'!$C$2:$C$121<>"")*(MID($D10,'Cevap Anahtarı'!$A$2:$A$121,1)='Cevap Anahtarı'!$C$2:$C$121))) | I10: =IF($B10="","",SUMPRODUCT(('Cevap Anahtarı'!$B$2:$B$121=H$2)*('Cevap Anahtarı'!$C$2:$C$121<>"")*(MID($D10,'Cevap Anahtarı'!$A$2:$A$121,1)<>"")*ISNUMBER(FIND(UPPER(MID($D10,'Cevap Anahtarı'!$A$2:$A$121,1)),"ABCDE"))*(MID($D10,'Cevap Anahtarı'!$A$2:$A$121,1)<>'Cevap Anahtarı'!$C$2:$C$121))) | J10: =IF($B10="","",ROUND(H10-IF(Ayarlar!$B$6>0,I10/Ayarlar!$B$6,0),2)) | K10: =IF($B10="","",SUMPRODUCT(('Cevap Anahtarı'!$B$2:$B$121=K$2)*('Cevap Anahtarı'!$C$2:$C$121<>"")*(MID($D10,'Cevap Anahtarı'!$A$2:$A$121,1)='Cevap Anahtarı'!$C$2:$C$121))) | L10: =IF($B10="","",SUMPRODUCT(('Cevap Anahtarı'!$B$2:$B$121=K$2)*('Cevap Anahtarı'!$C$2:$C$121<>"")*(MID($D10,'Cevap Anahtarı'!$A$2:$A$121,1)<>"")*ISNUMBER(FIND(UPPER(MID($D10,'Cevap Anahtarı'!$A$2:$A$121,1)),"ABCDE"))*(MID($D10,'Cevap Anahtarı'!$A$2:$A$121,1)<>'Cevap Anahtarı'!$C$2:$C$121))) | M10: =IF($B10="","",ROUND(K10-IF(Ayarlar!$B$6>0,L10/Ayarlar!$B$6,0),2)) | N10: =IF($B10="","",SUMPRODUCT(('Cevap Anahtarı'!$B$2:$B$121=N$2)*('Cevap Anahtarı'!$C$2:$C$121<>"")*(MID($D10,'Cevap Anahtarı'!$A$2:$A$121,1)='Cevap Anahtarı'!$C$2:$C$121))) | O10: =IF($B10="","",SUMPRODUCT(('Cevap Anahtarı'!$B$2:$B$121=N$2)*('Cevap Anahtarı'!$C$2:$C$121<>"")*(MID($D10,'Cevap Anahtarı'!$A$2:$A$121,1)<>"")*ISNUMBER(FIND(UPPER(MID($D10,'Cevap Anahtarı'!$A$2:$A$121,1)),"ABCDE"))*(MID($D10,'Cevap Anahtarı'!$A$2:$A$121,1)<>'Cevap Anahtarı'!$C$2:$C$121))) | P10: =IF($B10="","",ROUND(N10-IF(Ayarlar!$B$6>0,O10/Ayarlar!$B$6,0),2)) | Q10: =IF($B10="","",SUMPRODUCT(('Cevap Anahtarı'!$B$2:$B$121=Q$2)*('Cevap Anahtarı'!$C$2:$C$121<>"")*(MID($D10,'Cevap Anahtarı'!$A$2:$A$121,1)='Cevap Anahtarı'!$C$2:$C$121))) | R10: =IF($B10="","",SUMPRODUCT(('Cevap Anahtarı'!$B$2:$B$121=Q$2)*('Cevap Anahtarı'!$C$2:$C$121<>"")*(MID($D10,'Cevap Anahtarı'!$A$2:$A$121,1)<>"")*ISNUMBER(FIND(UPPER(MID($D10,'Cevap Anahtarı'!$A$2:$A$121,1)),"ABCDE"))*(MID($D10,'Cevap Anahtarı'!$A$2:$A$121,1)<>'Cevap Anahtarı'!$C$2:$C$121))) | S10: =IF($B10="","",ROUND(Q10-IF(Ayarlar!$B$6>0,R10/Ayarlar!$B$6,0),2)) | T10: =IF($B10="","",SUMPRODUCT(('Cevap Anahtarı'!$B$2:$B$121=T$2)*('Cevap Anahtarı'!$C$2:$C$121<>"")*(MID($D10,'Cevap Anahtarı'!$A$2:$A$121,1)='Cevap Anahtarı'!$C$2:$C$121))) | U10: =IF($B10="","",SUMPRODUCT(('Cevap Anahtarı'!$B$2:$B$121=T$2)*('Cevap Anahtarı'!$C$2:$C$121<>"")*(MID($D10,'Cevap Anahtarı'!$A$2:$A$121,1)<>"")*ISNUMBER(FIND(UPPER(MID($D10,'Cevap Anahtarı'!$A$2:$A$121,1)),"ABCDE"))*(MID($D10,'Cevap Anahtarı'!$A$2:$A$121,1)<>'Cevap Anahtarı'!$C$2:$C$121))) | V10: =IF($B10="","",ROUND(T10-IF(Ayarlar!$B$6>0,U10/Ayarlar!$B$6,0),2)) | W10: =IF($B10="","",G10+J10+M10+P10+S10+V10) | X10: =IF($B10="","",RANK(W10,$W$4:$W$503))
A11: 1008 | B11: Ece B. | C11: 8-B | D11: A BCBBBBABBC DDDC CDDDDBCCDCCA B AD DD ACDCDBCABDAAAADAD AAABAAA BD DDBC BB DCDACAAAAD | E11: =IF($B11="","",SUMPRODUCT(('Cevap Anahtarı'!$B$2:$B$121=E$2)*('Cevap Anahtarı'!$C$2:$C$121<>"")*(MID($D11,'Cevap Anahtarı'!$A$2:$A$121,1)='Cevap Anahtarı'!$C$2:$C$121))) | F11: =IF($B11="","",SUMPRODUCT(('Cevap Anahtarı'!$B$2:$B$121=E$2)*('Cevap Anahtarı'!$C$2:$C$121<>"")*(MID($D11,'Cevap Anahtarı'!$A$2:$A$121,1)<>"")*ISNUMBER(FIND(UPPER(MID($D11,'Cevap Anahtarı'!$A$2:$A$121,1)),"ABCDE"))*(MID($D11,'Cevap Anahtarı'!$A$2:$A$121,1)<>'Cevap Anahtarı'!$C$2:$C$121))) | G11: =IF($B11="","",ROUND(E11-IF(Ayarlar!$B$6>0,F11/Ayarlar!$B$6,0),2)) | H11: =IF($B11="","",SUMPRODUCT(('Cevap Anahtarı'!$B$2:$B$121=H$2)*('Cevap Anahtarı'!$C$2:$C$121<>"")*(MID($D11,'Cevap Anahtarı'!$A$2:$A$121,1)='Cevap Anahtarı'!$C$2:$C$121))) | I11: =IF($B11="","",SUMPRODUCT(('Cevap Anahtarı'!$B$2:$B$121=H$2)*('Cevap Anahtarı'!$C$2:$C$121<>"")*(MID($D11,'Cevap Anahtarı'!$A$2:$A$121,1)<>"")*ISNUMBER(FIND(UPPER(MID($D11,'Cevap Anahtarı'!$A$2:$A$121,1)),"ABCDE"))*(MID($D11,'Cevap Anahtarı'!$A$2:$A$121,1)<>'Cevap Anahtarı'!$C$2:$C$121))) | J11: =IF($B11="","",ROUND(H11-IF(Ayarlar!$B$6>0,I11/Ayarlar!$B$6,0),2)) | K11: =IF($B11="","",SUMPRODUCT(('Cevap Anahtarı'!$B$2:$B$121=K$2)*('Cevap Anahtarı'!$C$2:$C$121<>"")*(MID($D11,'Cevap Anahtarı'!$A$2:$A$121,1)='Cevap Anahtarı'!$C$2:$C$121))) | L11: =IF($B11="","",SUMPRODUCT(('Cevap Anahtarı'!$B$2:$B$121=K$2)*('Cevap Anahtarı'!$C$2:$C$121<>"")*(MID($D11,'Cevap Anahtarı'!$A$2:$A$121,1)<>"")*ISNUMBER(FIND(UPPER(MID($D11,'Cevap Anahtarı'!$A$2:$A$121,1)),"ABCDE"))*(MID($D11,'Cevap Anahtarı'!$A$2:$A$121,1)<>'Cevap Anahtarı'!$C$2:$C$121))) | M11: =IF($B11="","",ROUND(K11-IF(Ayarlar!$B$6>0,L11/Ayarlar!$B$6,0),2)) | N11: =IF($B11="","",SUMPRODUCT(('Cevap Anahtarı'!$B$2:$B$121=N$2)*('Cevap Anahtarı'!$C$2:$C$121<>"")*(MID($D11,'Cevap Anahtarı'!$A$2:$A$121,1)='Cevap Anahtarı'!$C$2:$C$121))) | O11: =IF($B11="","",SUMPRODUCT(('Cevap Anahtarı'!$B$2:$B$121=N$2)*('Cevap Anahtarı'!$C$2:$C$121<>"")*(MID($D11,'Cevap Anahtarı'!$A$2:$A$121,1)<>"")*ISNUMBER(FIND(UPPER(MID($D11,'Cevap Anahtarı'!$A$2:$A$121,1)),"ABCDE"))*(MID($D11,'Cevap Anahtarı'!$A$2:$A$121,1)<>'Cevap Anahtarı'!$C$2:$C$121))) | P11: =IF($B11="","",ROUND(N11-IF(Ayarlar!$B$6>0,O11/Ayarlar!$B$6,0),2)) | Q11: =IF($B11="","",SUMPRODUCT(('Cevap Anahtarı'!$B$2:$B$121=Q$2)*('Cevap Anahtarı'!$C$2:$C$121<>"")*(MID($D11,'Cevap Anahtarı'!$A$2:$A$121,1)='Cevap Anahtarı'!$C$2:$C$121))) | R11: =IF($B11="","",SUMPRODUCT(('Cevap Anahtarı'!$B$2:$B$121=Q$2)*('Cevap Anahtarı'!$C$2:$C$121<>"")*(MID($D11,'Cevap Anahtarı'!$A$2:$A$121,1)<>"")*ISNUMBER(FIND(UPPER(MID($D11,'Cevap Anahtarı'!$A$2:$A$121,1)),"ABCDE"))*(MID($D11,'Cevap Anahtarı'!$A$2:$A$121,1)<>'Cevap Anahtarı'!$C$2:$C$121))) | S11: =IF($B11="","",ROUND(Q11-IF(Ayarlar!$B$6>0,R11/Ayarlar!$B$6,0),2)) | T11: =IF($B11="","",SUMPRODUCT(('Cevap Anahtarı'!$B$2:$B$121=T$2)*('Cevap Anahtarı'!$C$2:$C$121<>"")*(MID($D11,'Cevap Anahtarı'!$A$2:$A$121,1)='Cevap Anahtarı'!$C$2:$C$121))) | U11: =IF($B11="","",SUMPRODUCT(('Cevap Anahtarı'!$B$2:$B$121=T$2)*('Cevap Anahtarı'!$C$2:$C$121<>"")*(MID($D11,'Cevap Anahtarı'!$A$2:$A$121,1)<>"")*ISNUMBER(FIND(UPPER(MID($D11,'Cevap Anahtarı'!$A$2:$A$121,1)),"ABCDE"))*(MID($D11,'Cevap Anahtarı'!$A$2:$A$121,1)<>'Cevap Anahtarı'!$C$2:$C$121))) | V11: =IF($B11="","",ROUND(T11-IF(Ayarlar!$B$6>0,U11/Ayarlar!$B$6,0),2)) | W11: =IF($B11="","",G11+J11+M11+P11+S11+V11) | X11: =IF($B11="","",RANK(W11,$W$4:$W$503))
E12: =IF($B12="","",SUMPRODUCT(('Cevap Anahtarı'!$B$2:$B$121=E$2)*('Cevap Anahtarı'!$C$2:$C$121<>"")*(MID($D12,'Cevap Anahtarı'!$A$2:$A$121,1)='Cevap Anahtarı'!$C$2:$C$121))) | F12: =IF($B12="","",SUMPRODUCT(('Cevap Anahtarı'!$B$2:$B$121=E$2)*('Cevap Anahtarı'!$C$2:$C$121<>"")*(MID($D12,'Cevap Anahtarı'!$A$2:$A$121,1)<>"")*ISNUMBER(FIND(UPPER(MID($D12,'Cevap Anahtarı'!$A$2:$A$121,1)),"ABCDE"))*(MID($D12,'Cevap Anahtarı'!$A$2:$A$121,1)<>'Cevap Anahtarı'!$C$2:$C$121))) | G12: =IF($B12="","",ROUND(E12-IF(Ayarlar!$B$6>0,F12/Ayarlar!$B$6,0),2)) | H12: =IF($B12="","",SUMPRODUCT(('Cevap Anahtarı'!$B$2:$B$121=H$2)*('Cevap Anahtarı'!$C$2:$C$121<>"")*(MID($D12,'Cevap Anahtarı'!$A$2:$A$121,1)='Cevap Anahtarı'!$C$2:$C$121))) | I12: =IF($B12="","",SUMPRODUCT(('Cevap Anahtarı'!$B$2:$B$121=H$2)*('Cevap Anahtarı'!$C$2:$C$121<>"")*(MID($D12,'Cevap Anahtarı'!$A$2:$A$121,1)<>"")*ISNUMBER(FIND(UPPER(MID($D12,'Cevap Anahtarı'!$A$2:$A$121,1)),"ABCDE"))*(MID($D12,'Cevap Anahtarı'!$A$2:$A$121,1)<>'Cevap Anahtarı'!$C$2:$C$121))) | J12: =IF($B12="","",ROUND(H12-IF(Ayarlar!$B$6>0,I12/Ayarlar!$B$6,0),2)) | K12: =IF($B12="","",SUMPRODUCT(('Cevap Anahtarı'!$B$2:$B$121=K$2)*('Cevap Anahtarı'!$C$2:$C$121<>"")*(MID($D12,'Cevap Anahtarı'!$A$2:$A$121,1)='Cevap Anahtarı'!$C$2:$C$121))) | L12: =IF($B12="","",SUMPRODUCT(('Cevap Anahtarı'!$B$2:$B$121=K$2)*('Cevap Anahtarı'!$C$2:$C$121<>"")*(MID($D12,'Cevap Anahtarı'!$A$2:$A$121,1)<>"")*ISNUMBER(FIND(UPPER(MID($D12,'Cevap Anahtarı'!$A$2:$A$121,1)),"ABCDE"))*(MID($D12,'Cevap Anahtarı'!$A$2:$A$121,1)<>'Cevap Anahtarı'!$C$2:$C$121))) | M12: =IF($B12="","",ROUND(K12-IF(Ayarlar!$B$6>0,L12/Ayarlar!$B$6,0),2)) | N12: =IF($B12="","",SUMPRODUCT(('Cevap Anahtarı'!$B$2:$B$121=N$2)*('Cevap Anahtarı'!$C$2:$C$121<>"")*(MID($D12,'Cevap Anahtarı'!$A$2:$A$121,1)='Cevap Anahtarı'!$C$2:$C$121))) | O12: =IF($B12="","",SUMPRODUCT(('Cevap Anahtarı'!$B$2:$B$121=N$2)*('Cevap Anahtarı'!$C$2:$C$121<>"")*(MID($D12,'Cevap Anahtarı'!$A$2:$A$121,1)<>"")*ISNUMBER(FIND(UPPER(MID($D12,'Cevap Anahtarı'!$A$2:$A$121,1)),"ABCDE"))*(MID($D12,'Cevap Anahtarı'!$A$2:$A$121,1)<>'Cevap Anahtarı'!$C$2:$C$121))) | P12: =IF($B12="","",ROUND(N12-IF(Ayarlar!$B$6>0,O12/Ayarlar!$B$6,0),2)) | Q12: =IF($B12="","",SUMPRODUCT(('Cevap Anahtarı'!$B$2:$B$121=Q$2)*('Cevap Anahtarı'!$C$2:$C$121<>"")*(MID($D12,'Cevap Anahtarı'!$A$2:$A$121,1)='Cevap Anahtarı'!$C$2:$C$121))) | R12: =IF($B12="","",SUMPRODUCT(('Cevap Anahtarı'!$B$2:$B$121=Q$2)*('Cevap Anahtarı'!$C$2:$C$121<>"")*(MID($D12,'Cevap Anahtarı'!$A$2:$A$121,1)<>"")*ISNUMBER(FIND(UPPER(MID($D12,'Cevap Anahtarı'!$A$2:$A$121,1)),"ABCDE"))*(MID($D12,'Cevap Anahtarı'!$A$2:$A$121,1)<>'Cevap Anahtarı'!$C$2:$C$121))) | S12: =IF($B12="","",ROUND(Q12-IF(Ayarlar!$B$6>0,R12/Ayarlar!$B$6,0),2)) | T12: =IF($B12="","",SUMPRODUCT(('Cevap Anahtarı'!$B$2:$B$121=T$2)*('Cevap Anahtarı'!$C$2:$C$121<>"")*(MID($D12,'Cevap Anahtarı'!$A$2:$A$121,1)='Cevap Anahtarı'!$C$2:$C$121))) | U12: =IF($B12="","",SUMPRODUCT(('Cevap Anahtarı'!$B$2:$B$121=T$2)*('Cevap Anahtarı'!$C$2:$C$121<>"")*(MID($D12,'Cevap Anahtarı'!$A$2:$A$121,1)<>"")*ISNUMBER(FIND(UPPER(MID($D12,'Cevap Anahtarı'!$A$2:$A$121,1)),"ABCDE"))*(MID($D12,'Cevap Anahtarı'!$A$2:$A$121,1)<>'Cevap Anahtarı'!$C$2:$C$121))) | V12: =IF($B12="","",ROUND(T12-IF(Ayarlar!$B$6>0,U12/Ayarlar!$B$6,0),2)) | W12: =IF($B12="","",G12+J12+M12+P12+S12+V12) | X12: =IF($B12="","",RANK(W12,$W$4:$W$503))
E13: =IF($B13="","",SUMPRODUCT(('Cevap Anahtarı'!$B$2:$B$121=E$2)*('Cevap Anahtarı'!$C$2:$C$121<>"")*(MID($D13,'Cevap Anahtarı'!$A$2:$A$121,1)='Cevap Anahtarı'!$C$2:$C$121))) | F13: =IF($B13="","",SUMPRODUCT(('Cevap Anahtarı'!$B$2:$B$121=E$2)*('Cevap Anahtarı'!$C$2:$C$121<>"")*(MID($D13,'Cevap Anahtarı'!$A$2:$A$121,1)<>"")*ISNUMBER(FIND(UPPER(MID($D13,'Cevap Anahtarı'!$A$2:$A$121,1)),"ABCDE"))*(MID($D13,'Cevap Anahtarı'!$A$2:$A$121,1)<>'Cevap Anahtarı'!$C$2:$C$121))) | G13: =IF($B13="","",ROUND(E13-IF(Ayarlar!$B$6>0,F13/Ayarlar!$B$6,0),2)) | H13: =IF($B13="","",SUMPRODUCT(('Cevap Anahtarı'!$B$2:$B$121=H$2)*('Cevap Anahtarı'!$C$2:$C$121<>"")*(MID($D13,'Cevap Anahtarı'!$A$2:$A$121,1)='Cevap Anahtarı'!$C$2:$C$121))) | I13: =IF($B13="","",SUMPRODUCT(('Cevap Anahtarı'!$B$2:$B$121=H$2)*('Cevap Anahtarı'!$C$2:$C$121<>"")*(MID($D13,'Cevap Anahtarı'!$A$2:$A$121,1)<>"")*ISNUMBER(FIND(UPPER(MID($D13,'Cevap Anahtarı'!$A$2:$A$121,1)),"ABCDE"))*(MID($D13,'Cevap Anahtarı'!$A$2:$A$121,1)<>'Cevap Anahtarı'!$C$2:$C$121))) | J13: =IF($B13="","",ROUND(H13-IF(Ayarlar!$B$6>0,I13/Ayarlar!$B$6,0),2)) | K13: =IF($B13="","",SUMPRODUCT(('Cevap Anahtarı'!$B$2:$B$121=K$2)*('Cevap Anahtarı'!$C$2:$C$121<>"")*(MID($D13,'Cevap Anahtarı'!$A$2:$A$121,1)='Cevap Anahtarı'!$C$2:$C$121))) | L13: =IF($B13="","",SUMPRODUCT(('Cevap Anahtarı'!$B$2:$B$121=K$2)*('Cevap Anahtarı'!$C$2:$C$121<>"")*(MID($D13,'Cevap Anahtarı'!$A$2:$A$121,1)<>"")*ISNUMBER(FIND(UPPER(MID($D13,'Cevap Anahtarı'!$A$2:$A$121,1)),"ABCDE"))*(MID($D13,'Cevap Anahtarı'!$A$2:$A$121,1)<>'Cevap Anahtarı'!$C$2:$C$121))) | M13: =IF($B13="","",ROUND(K13-IF(Ayarlar!$B$6>0,L13/Ayarlar!$B$6,0),2)) | N13: =IF($B13="","",SUMPRODUCT(('Cevap Anahtarı'!$B$2:$B$121=N$2)*('Cevap Anahtarı'!$C$2:$C$121<>"")*(MID($D13,'Cevap Anahtarı'!$A$2:$A$121,1)='Cevap Anahtarı'!$C$2:$C$121))) | O13: =IF($B13="","",SUMPRODUCT(('Cevap Anahtarı'!$B$2:$B$121=N$2)*('Cevap Anahtarı'!$C$2:$C$121<>"")*(MID($D13,'Cevap Anahtarı'!$A$2:$A$121,1)<>"")*ISNUMBER(FIND(UPPER(MID($D13,'Cevap Anahtarı'!$A$2:$A$121,1)),"ABCDE"))*(MID($D13,'Cevap Anahtarı'!$A$2:$A$121,1)<>'Cevap Anahtarı'!$C$2:$C$121))) | P13: =IF($B13="","",ROUND(N13-IF(Ayarlar!$B$6>0,O13/Ayarlar!$B$6,0),2)) | Q13: =IF($B13="","",SUMPRODUCT(('Cevap Anahtarı'!$B$2:$B$121=Q$2)*('Cevap Anahtarı'!$C$2:$C$121<>"")*(MID($D13,'Cevap Anahtarı'!$A$2:$A$121,1)='Cevap Anahtarı'!$C$2:$C$121))) | R13: =IF($B13="","",SUMPRODUCT(('Cevap Anahtarı'!$B$2:$B$121=Q$2)*('Cevap Anahtarı'!$C$2:$C$121<>"")*(MID($D13,'Cevap Anahtarı'!$A$2:$A$121,1)<>"")*ISNUMBER(FIND(UPPER(MID($D13,'Cevap Anahtarı'!$A$2:$A$121,1)),"ABCDE"))*(MID($D13,'Cevap Anahtarı'!$A$2:$A$121,1)<>'Cevap Anahtarı'!$C$2:$C$121))) | S13: =IF($B13="","",ROUND(Q13-IF(Ayarlar!$B$6>0,R13/Ayarlar!$B$6,0),2)) | T13: =IF($B13="","",SUMPRODUCT(('Cevap Anahtarı'!$B$2:$B$121=T$2)*('Cevap Anahtarı'!$C$2:$C$121<>"")*(MID($D13,'Cevap Anahtarı'!$A$2:$A$121,1)='Cevap Anahtarı'!$C$2:$C$121))) | U13: =IF($B13="","",SUMPRODUCT(('Cevap Anahtarı'!$B$2:$B$121=T$2)*('Cevap Anahtarı'!$C$2:$C$121<>"")*(MID($D13,'Cevap Anahtarı'!$A$2:$A$121,1)<>"")*ISNUMBER(FIND(UPPER(MID($D13,'Cevap Anahtarı'!$A$2:$A$121,1)),"ABCDE"))*(MID($D13,'Cevap Anahtarı'!$A$2:$A$121,1)<>'Cevap Anahtarı'!$C$2:$C$121))) | V13: =IF($B13="","",ROUND(T13-IF(Ayarlar!$B$6>0,U13/Ayarlar!$B$6,0),2)) | W13: =IF($B13="","",G13+J13+M13+P13+S13+V13) | X13: =IF($B13="","",RANK(W13,$W$4:$W$503))
E14: =IF($B14="","",SUMPRODUCT(('Cevap Anahtarı'!$B$2:$B$121=E$2)*('Cevap Anahtarı'!$C$2:$C$121<>"")*(MID($D14,'Cevap Anahtarı'!$A$2:$A$121,1)='Cevap Anahtarı'!$C$2:$C$121))) | F14: =IF($B14="","",SUMPRODUCT(('Cevap Anahtarı'!$B$2:$B$121=E$2)*('Cevap Anahtarı'!$C$2:$C$121<>"")*(MID($D14,'Cevap Anahtarı'!$A$2:$A$121,1)<>"")*ISNUMBER(FIND(UPPER(MID($D14,'Cevap Anahtarı'!$A$2:$A$121,1)),"ABCDE"))*(MID($D14,'Cevap Anahtarı'!$A$2:$A$121,1)<>'Cevap Anahtarı'!$C$2:$C$121))) | G14: =IF($B14="","",ROUND(E14-IF(Ayarlar!$B$6>0,F14/Ayarlar!$B$6,0),2)) | H14: =IF($B14="","",SUMPRODUCT(('Cevap Anahtarı'!$B$2:$B$121=H$2)*('Cevap Anahtarı'!$C$2:$C$121<>"")*(MID($D14,'Cevap Anahtarı'!$A$2:$A$121,1)='Cevap Anahtarı'!$C$2:$C$121))) | I14: =IF($B14="","",SUMPRODUCT(('Cevap Anahtarı'!$B$2:$B$121=H$2)*('Cevap Anahtarı'!$C$2:$C$121<>"")*(MID($D14,'Cevap Anahtarı'!$A$2:$A$121,1)<>"")*ISNUMBER(FIND(UPPER(MID($D14,'Cevap Anahtarı'!$A$2:$A$121,1)),"ABCDE"))*(MID($D14,'Cevap Anahtarı'!$A$2:$A$121,1)<>'Cevap Anahtarı'!$C$2:$C$121))) | J14: =IF($B14="","",ROUND(H14-IF(Ayarlar!$B$6>0,I14/Ayarlar!$B$6,0),2)) | K14: =IF($B14="","",SUMPRODUCT(('Cevap Anahtarı'!$B$2:$B$121=K$2)*('Cevap Anahtarı'!$C$2:$C$121<>"")*(MID($D14,'Cevap Anahtarı'!$A$2:$A$121,1)='Cevap Anahtarı'!$C$2:$C$121))) | L14: =IF($B14="","",SUMPRODUCT(('Cevap Anahtarı'!$B$2:$B$121=K$2)*('Cevap Anahtarı'!$C$2:$C$121<>"")*(MID($D14,'Cevap Anahtarı'!$A$2:$A$121,1)<>"")*ISNUMBER(FIND(UPPER(MID($D14,'Cevap Anahtarı'!$A$2:$A$121,1)),"ABCDE"))*(MID($D14,'Cevap Anahtarı'!$A$2:$A$121,1)<>'Cevap Anahtarı'!$C$2:$C$121))) | M14: =IF($B14="","",ROUND(K14-IF(Ayarlar!$B$6>0,L14/Ayarlar!$B$6,0),2)) | N14: =IF($B14="","",SUMPRODUCT(('Cevap Anahtarı'!$B$2:$B$121=N$2)*('Cevap Anahtarı'!$C$2:$C$121<>"")*(MID($D14,'Cevap Anahtarı'!$A$2:$A$121,1)='Cevap Anahtarı'!$C$2:$C$121))) | O14: =IF($B14="","",SUMPRODUCT(('Cevap Anahtarı'!$B$2:$B$121=N$2)*('Cevap Anahtarı'!$C$2:$C$121<>"")*(MID($D14,'Cevap Anahtarı'!$A$2:$A$121,1)<>"")*ISNUMBER(FIND(UPPER(MID($D14,'Cevap Anahtarı'!$A$2:$A$121,1)),"ABCDE"))*(MID($D14,'Cevap Anahtarı'!$A$2:$A$121,1)<>'Cevap Anahtarı'!$C$2:$C$121))) | P14: =IF($B14="","",ROUND(N14-IF(Ayarlar!$B$6>0,O14/Ayarlar!$B$6,0),2)) | Q14: =IF($B14="","",SUMPRODUCT(('Cevap Anahtarı'!$B$2:$B$121=Q$2)*('Cevap Anahtarı'!$C$2:$C$121<>"")*(MID($D14,'Cevap Anahtarı'!$A$2:$A$121,1)='Cevap Anahtarı'!$C$2:$C$121))) | R14: =IF($B14="","",SUMPRODUCT(('Cevap Anahtarı'!$B$2:$B$121=Q$2)*('Cevap Anahtarı'!$C$2:$C$121<>"")*(MID($D14,'Cevap Anahtarı'!$A$2:$A$121,1)<>"")*ISNUMBER(FIND(UPPER(MID($D14,'Cevap Anahtarı'!$A$2:$A$121,1)),"ABCDE"))*(MID($D14,'Cevap Anahtarı'!$A$2:$A$121,1)<>'Cevap Anahtarı'!$C$2:$C$121))) | S14: =IF($B14="","",ROUND(Q14-IF(Ayarlar!$B$6>0,R14/Ayarlar!$B$6,0),2)) | T14: =IF($B14="","",SUMPRODUCT(('Cevap Anahtarı'!$B$2:$B$121=T$2)*('Cevap Anahtarı'!$C$2:$C$121<>"")*(MID($D14,'Cevap Anahtarı'!$A$2:$A$121,1)='Cevap Anahtarı'!$C$2:$C$121))) | U14: =IF($B14="","",SUMPRODUCT(('Cevap Anahtarı'!$B$2:$B$121=T$2)*('Cevap Anahtarı'!$C$2:$C$121<>"")*(MID($D14,'Cevap Anahtarı'!$A$2:$A$121,1)<>"")*ISNUMBER(FIND(UPPER(MID($D14,'Cevap Anahtarı'!$A$2:$A$121,1)),"ABCDE"))*(MID($D14,'Cevap Anahtarı'!$A$2:$A$121,1)<>'Cevap Anahtarı'!$C$2:$C$121))) | V14: =IF($B14="","",ROUND(T14-IF(Ayarlar!$B$6>0,U14/Ayarlar!$B$6,0),2)) | W14: =IF($B14="","",G14+J14+M14+P14+S14+V14) | X14: =IF($B14="","",RANK(W14,$W$4:$W$503))
E15: =IF($B15="","",SUMPRODUCT(('Cevap Anahtarı'!$B$2:$B$121=E$2)*('Cevap Anahtarı'!$C$2:$C$121<>"")*(MID($D15,'Cevap Anahtarı'!$A$2:$A$121,1)='Cevap Anahtarı'!$C$2:$C$121))) | F15: =IF($B15="","",SUMPRODUCT(('Cevap Anahtarı'!$B$2:$B$121=E$2)*('Cevap Anahtarı'!$C$2:$C$121<>"")*(MID($D15,'Cevap Anahtarı'!$A$2:$A$121,1)<>"")*ISNUMBER(FIND(UPPER(MID($D15,'Cevap Anahtarı'!$A$2:$A$121,1)),"ABCDE"))*(MID($D15,'Cevap Anahtarı'!$A$2:$A$121,1)<>'Cevap Anahtarı'!$C$2:$C$121))) | G15: =IF($B15="","",ROUND(E15-IF(Ayarlar!$B$6>0,F15/Ayarlar!$B$6,0),2)) | H15: =IF($B15="","",SUMPRODUCT(('Cevap Anahtarı'!$B$2:$B$121=H$2)*('Cevap Anahtarı'!$C$2:$C$121<>"")*(MID($D15,'Cevap Anahtarı'!$A$2:$A$121,1)='Cevap Anahtarı'!$C$2:$C$121))) | I15: =IF($B15="","",SUMPRODUCT(('Cevap Anahtarı'!$B$2:$B$121=H$2)*('Cevap Anahtarı'!$C$2:$C$121<>"")*(MID($D15,'Cevap Anahtarı'!$A$2:$A$121,1)<>"")*ISNUMBER(FIND(UPPER(MID($D15,'Cevap Anahtarı'!$A$2:$A$121,1)),"ABCDE"))*(MID($D15,'Cevap Anahtarı'!$A$2:$A$121,1)<>'Cevap Anahtarı'!$C$2:$C$121))) | J15: =IF($B15="","",ROUND(H15-IF(Ayarlar!$B$6>0,I15/Ayarlar!$B$6,0),2)) | K15: =IF($B15="","",SUMPRODUCT(('Cevap Anahtarı'!$B$2:$B$121=K$2)*('Cevap Anahtarı'!$C$2:$C$121<>"")*(MID($D15,'Cevap Anahtarı'!$A$2:$A$121,1)='Cevap Anahtarı'!$C$2:$C$121))) | L15: =IF($B15="","",SUMPRODUCT(('Cevap Anahtarı'!$B$2:$B$121=K$2)*('Cevap Anahtarı'!$C$2:$C$121<>"")*(MID($D15,'Cevap Anahtarı'!$A$2:$A$121,1)<>"")*ISNUMBER(FIND(UPPER(MID($D15,'Cevap Anahtarı'!$A$2:$A$121,1)),"ABCDE"))*(MID($D15,'Cevap Anahtarı'!$A$2:$A$121,1)<>'Cevap Anahtarı'!$C$2:$C$121))) | M15: =IF($B15="","",ROUND(K15-IF(Ayarlar!$B$6>0,L15/Ayarlar!$B$6,0),2)) | N15: =IF($B15="","",SUMPRODUCT(('Cevap Anahtarı'!$B$2:$B$121=N$2)*('Cevap Anahtarı'!$C$2:$C$121<>"")*(MID($D15,'Cevap Anahtarı'!$A$2:$A$121,1)='Cevap Anahtarı'!$C$2:$C$121))) | O15: =IF($B15="","",SUMPRODUCT(('Cevap Anahtarı'!$B$2:$B$121=N$2)*('Cevap Anahtarı'!$C$2:$C$121<>"")*(MID($D15,'Cevap Anahtarı'!$A$2:$A$121,1)<>"")*ISNUMBER(FIND(UPPER(MID($D15,'Cevap Anahtarı'!$A$2:$A$121,1)),"ABCDE"))*(MID($D15,'Cevap Anahtarı'!$A$2:$A$121,1)<>'Cevap Anahtarı'!$C$2:$C$121))) | P15: =IF($B15="","",ROUND(N15-IF(Ayarlar!$B$6>0,O15/Ayarlar!$B$6,0),2)) | Q15: =IF($B15="","",SUMPRODUCT(('Cevap Anahtarı'!$B$2:$B$121=Q$2)*('Cevap Anahtarı'!$C$2:$C$121<>"")*(MID($D15,'Cevap Anahtarı'!$A$2:$A$121,1)='Cevap Anahtarı'!$C$2:$C$121))) | R15: =IF($B15="","",SUMPRODUCT(('Cevap Anahtarı'!$B$2:$B$121=Q$2)*('Cevap Anahtarı'!$C$2:$C$121<>"")*(MID($D15,'Cevap Anahtarı'!$A$2:$A$121,1)<>"")*ISNUMBER(FIND(UPPER(MID($D15,'Cevap Anahtarı'!$A$2:$A$121,1)),"ABCDE"))*(MID($D15,'Cevap Anahtarı'!$A$2:$A$121,1)<>'Cevap Anahtarı'!$C$2:$C$121))) | S15: =IF($B15="","",ROUND(Q15-IF(Ayarlar!$B$6>0,R15/Ayarlar!$B$6,0),2)) | T15: =IF($B15="","",SUMPRODUCT(('Cevap Anahtarı'!$B$2:$B$121=T$2)*('Cevap Anahtarı'!$C$2:$C$121<>"")*(MID($D15,'Cevap Anahtarı'!$A$2:$A$121,1)='Cevap Anahtarı'!$C$2:$C$121))) | U15: =IF($B15="","",SUMPRODUCT(('Cevap Anahtarı'!$B$2:$B$121=T$2)*('Cevap Anahtarı'!$C$2:$C$121<>"")*(MID($D15,'Cevap Anahtarı'!$A$2:$A$121,1)<>"")*ISNUMBER(FIND(UPPER(MID($D15,'Cevap Anahtarı'!$A$2:$A$121,1)),"ABCDE"))*(MID($D15,'Cevap Anahtarı'!$A$2:$A$121,1)<>'Cevap Anahtarı'!$C$2:$C$121))) | V15: =IF($B15="","",ROUND(T15-IF(Ayarlar!$B$6>0,U15/Ayarlar!$B$6,0),2)) | W15: =IF($B15="","",G15+J15+M15+P15+S15+V15) | X15: =IF($B15="","",RANK(W15,$W$4:$W$503))
E16: =IF($B16="","",SUMPRODUCT(('Cevap Anahtarı'!$B$2:$B$121=E$2)*('Cevap Anahtarı'!$C$2:$C$121<>"")*(MID($D16,'Cevap Anahtarı'!$A$2:$A$121,1)='Cevap Anahtarı'!$C$2:$C$121))) | F16: =IF($B16="","",SUMPRODUCT(('Cevap Anahtarı'!$B$2:$B$121=E$2)*('Cevap Anahtarı'!$C$2:$C$121<>"")*(MID($D16,'Cevap Anahtarı'!$A$2:$A$121,1)<>"")*ISNUMBER(FIND(UPPER(MID($D16,'Cevap Anahtarı'!$A$2:$A$121,1)),"ABCDE"))*(MID($D16,'Cevap Anahtarı'!$A$2:$A$121,1)<>'Cevap Anahtarı'!$C$2:$C$121))) | G16: =IF($B16="","",ROUND(E16-IF(Ayarlar!$B$6>0,F16/Ayarlar!$B$6,0),2)) | H16: =IF($B16="","",SUMPRODUCT(('Cevap Anahtarı'!$B$2:$B$121=H$2)*('Cevap Anahtarı'!$C$2:$C$121<>"")*(MID($D16,'Cevap Anahtarı'!$A$2:$A$121,1)='Cevap Anahtarı'!$C$2:$C$121))) | I16: =IF($B16="","",SUMPRODUCT(('Cevap Anahtarı'!$B$2:$B$121=H$2)*('Cevap Anahtarı'!$C$2:$C$121<>"")*(MID($D16,'Cevap Anahtarı'!$A$2:$A$121,1)<>"")*ISNUMBER(FIND(UPPER(MID($D16,'Cevap Anahtarı'!$A$2:$A$121,1)),"ABCDE"))*(MID($D16,'Cevap Anahtarı'!$A$2:$A$121,1)<>'Cevap Anahtarı'!$C$2:$C$121))) | J16: =IF($B16="","",ROUND(H16-IF(Ayarlar!$B$6>0,I16/Ayarlar!$B$6,0),2)) | K16: =IF($B16="","",SUMPRODUCT(('Cevap Anahtarı'!$B$2:$B$121=K$2)*('Cevap Anahtarı'!$C$2:$C$121<>"")*(MID($D16,'Cevap Anahtarı'!$A$2:$A$121,1)='Cevap Anahtarı'!$C$2:$C$121))) | L16: =IF($B16="","",SUMPRODUCT(('Cevap Anahtarı'!$B$2:$B$121=K$2)*('Cevap Anahtarı'!$C$2:$C$121<>"")*(MID($D16,'Cevap Anahtarı'!$A$2:$A$121,1)<>"")*ISNUMBER(FIND(UPPER(MID($D16,'Cevap Anahtarı'!$A$2:$A$121,1)),"ABCDE"))*(MID($D16,'Cevap Anahtarı'!$A$2:$A$121,1)<>'Cevap Anahtarı'!$C$2:$C$121))) | M16: =IF($B16="","",ROUND(K16-IF(Ayarlar!$B$6>0,L16/Ayarlar!$B$6,0),2)) | N16: =IF($B16="","",SUMPRODUCT(('Cevap Anahtarı'!$B$2:$B$121=N$2)*('Cevap Anahtarı'!$C$2:$C$121<>"")*(MID($D16,'Cevap Anahtarı'!$A$2:$A$121,1)='Cevap Anahtarı'!$C$2:$C$121))) | O16: =IF($B16="","",SUMPRODUCT(('Cevap Anahtarı'!$B$2:$B$121=N$2)*('Cevap Anahtarı'!$C$2:$C$121<>"")*(MID($D16,'Cevap Anahtarı'!$A$2:$A$121,1)<>"")*ISNUMBER(FIND(UPPER(MID($D16,'Cevap Anahtarı'!$A$2:$A$121,1)),"ABCDE"))*(MID($D16,'Cevap Anahtarı'!$A$2:$A$121,1)<>'Cevap Anahtarı'!$C$2:$C$121))) | P16: =IF($B16="","",ROUND(N16-IF(Ayarlar!$B$6>0,O16/Ayarlar!$B$6,0),2)) | Q16: =IF($B16="","",SUMPRODUCT(('Cevap Anahtarı'!$B$2:$B$121=Q$2)*('Cevap Anahtarı'!$C$2:$C$121<>"")*(MID($D16,'Cevap Anahtarı'!$A$2:$A$121,1)='Cevap Anahtarı'!$C$2:$C$121))) | R16: =IF($B16="","",SUMPRODUCT(('Cevap Anahtarı'!$B$2:$B$121=Q$2)*('Cevap Anahtarı'!$C$2:$C$121<>"")*(MID($D16,'Cevap Anahtarı'!$A$2:$A$121,1)<>"")*ISNUMBER(FIND(UPPER(MID($D16,'Cevap Anahtarı'!$A$2:$A$121,1)),"ABCDE"))*(MID($D16,'Cevap Anahtarı'!$A$2:$A$121,1)<>'Cevap Anahtarı'!$C$2:$C$121))) | S16: =IF($B16="","",ROUND(Q16-IF(Ayarlar!$B$6>0,R16/Ayarlar!$B$6,0),2)) | T16: =IF($B16="","",SUMPRODUCT(('Cevap Anahtarı'!$B$2:$B$121=T$2)*('Cevap Anahtarı'!$C$2:$C$121<>"")*(MID($D16,'Cevap Anahtarı'!$A$2:$A$121,1)='Cevap Anahtarı'!$C$2:$C$121))) | U16: =IF($B16="","",SUMPRODUCT(('Cevap Anahtarı'!$B$2:$B$121=T$2)*('Cevap Anahtarı'!$C$2:$C$121<>"")*(MID($D16,'Cevap Anahtarı'!$A$2:$A$121,1)<>"")*ISNUMBER(FIND(UPPER(MID($D16,'Cevap Anahtarı'!$A$2:$A$121,1)),"ABCDE"))*(MID($D16,'Cevap Anahtarı'!$A$2:$A$121,1)<>'Cevap Anahtarı'!$C$2:$C$121))) | V16: =IF($B16="","",ROUND(T16-IF(Ayarlar!$B$6>0,U16/Ayarlar!$B$6,0),2)) | W16: =IF($B16="","",G16+J16+M16+P16+S16+V16) | X16: =IF($B16="","",RANK(W16,$W$4:$W$503))
E17: =IF($B17="","",SUMPRODUCT(('Cevap Anahtarı'!$B$2:$B$121=E$2)*('Cevap Anahtarı'!$C$2:$C$121<>"")*(MID($D17,'Cevap Anahtarı'!$A$2:$A$121,1)='Cevap Anahtarı'!$C$2:$C$121))) | F17: =IF($B17="","",SUMPRODUCT(('Cevap Anahtarı'!$B$2:$B$121=E$2)*('Cevap Anahtarı'!$C$2:$C$121<>"")*(MID($D17,'Cevap Anahtarı'!$A$2:$A$121,1)<>"")*ISNUMBER(FIND(UPPER(MID($D17,'Cevap Anahtarı'!$A$2:$A$121,1)),"ABCDE"))*(MID($D17,'Cevap Anahtarı'!$A$2:$A$121,1)<>'Cevap Anahtarı'!$C$2:$C$121))) | G17: =IF($B17="","",ROUND(E17-IF(Ayarlar!$B$6>0,F17/Ayarlar!$B$6,0),2)) | H17: =IF($B17="","",SUMPRODUCT(('Cevap Anahtarı'!$B$2:$B$121=H$2)*('Cevap Anahtarı'!$C$2:$C$121<>"")*(MID($D17,'Cevap Anahtarı'!$A$2:$A$121,1)='Cevap Anahtarı'!$C$2:$C$121))) | I17: =IF($B17="","",SUMPRODUCT(('Cevap Anahtarı'!$B$2:$B$121=H$2)*('Cevap Anahtarı'!$C$2:$C$121<>"")*(MID($D17,'Cevap Anahtarı'!$A$2:$A$121,1)<>"")*ISNUMBER(FIND(UPPER(MID($D17,'Cevap Anahtarı'!$A$2:$A$121,1)),"ABCDE"))*(MID($D17,'Cevap Anahtarı'!$A$2:$A$121,1)<>'Cevap Anahtarı'!$C$2:$C$121))) | J17: =IF($B17="","",ROUND(H17-IF(Ayarlar!$B$6>0,I17/Ayarlar!$B$6,0),2)) | K17: =IF($B17="","",SUMPRODUCT(('Cevap Anahtarı'!$B$2:$B$121=K$2)*('Cevap Anahtarı'!$C$2:$C$121<>"")*(MID($D17,'Cevap Anahtarı'!$A$2:$A$121,1)='Cevap Anahtarı'!$C$2:$C$121))) | L17: =IF($B17="","",SUMPRODUCT(('Cevap Anahtarı'!$B$2:$B$121=K$2)*('Cevap Anahtarı'!$C$2:$C$121<>"")*(MID($D17,'Cevap Anahtarı'!$A$2:$A$121,1)<>"")*ISNUMBER(FIND(UPPER(MID($D17,'Cevap Anahtarı'!$A$2:$A$121,1)),"ABCDE"))*(MID($D17,'Cevap Anahtarı'!$A$2:$A$121,1)<>'Cevap Anahtarı'!$C$2:$C$121))) | M17: =IF($B17="","",ROUND(K17-IF(Ayarlar!$B$6>0,L17/Ayarlar!$B$6,0),2)) | N17: =IF($B17="","",SUMPRODUCT(('Cevap Anahtarı'!$B$2:$B$121=N$2)*('Cevap Anahtarı'!$C$2:$C$121<>"")*(MID($D17,'Cevap Anahtarı'!$A$2:$A$121,1)='Cevap Anahtarı'!$C$2:$C$121))) | O17: =IF($B17="","",SUMPRODUCT(('Cevap Anahtarı'!$B$2:$B$121=N$2)*('Cevap Anahtarı'!$C$2:$C$121<>"")*(MID($D17,'Cevap Anahtarı'!$A$2:$A$121,1)<>"")*ISNUMBER(FIND(UPPER(MID($D17,'Cevap Anahtarı'!$A$2:$A$121,1)),"ABCDE"))*(MID($D17,'Cevap Anahtarı'!$A$2:$A$121,1)<>'Cevap Anahtarı'!$C$2:$C$121))) | P17: =IF($B17="","",ROUND(N17-IF(Ayarlar!$B$6>0,O17/Ayarlar!$B$6,0),2)) | Q17: =IF($B17="","",SUMPRODUCT(('Cevap Anahtarı'!$B$2:$B$121=Q$2)*('Cevap Anahtarı'!$C$2:$C$121<>"")*(MID($D17,'Cevap Anahtarı'!$A$2:$A$121,1)='Cevap Anahtarı'!$C$2:$C$121))) | R17: =IF($B17="","",SUMPRODUCT(('Cevap Anahtarı'!$B$2:$B$121=Q$2)*('Cevap Anahtarı'!$C$2:$C$121<>"")*(MID($D17,'Cevap Anahtarı'!$A$2:$A$121,1)<>"")*ISNUMBER(FIND(UPPER(MID($D17,'Cevap Anahtarı'!$A$2:$A$121,1)),"ABCDE"))*(MID($D17,'Cevap Anahtarı'!$A$2:$A$121,1)<>'Cevap Anahtarı'!$C$2:$C$121))) | S17: =IF($B17="","",ROUND(Q17-IF(Ayarlar!$B$6>0,R17/Ayarlar!$B$6,0),2)) | T17: =IF($B17="","",SUMPRODUCT(('Cevap Anahtarı'!$B$2:$B$121=T$2)*('Cevap Anahtarı'!$C$2:$C$121<>"")*(MID($D17,'Cevap Anahtarı'!$A$2:$A$121,1)='Cevap Anahtarı'!$C$2:$C$121))) | U17: =IF($B17="","",SUMPRODUCT(('Cevap Anahtarı'!$B$2:$B$121=T$2)*('Cevap Anahtarı'!$C$2:$C$121<>"")*(MID($D17,'Cevap Anahtarı'!$A$2:$A$121,1)<>"")*ISNUMBER(FIND(UPPER(MID($D17,'Cevap Anahtarı'!$A$2:$A$121,1)),"ABCDE"))*(MID($D17,'Cevap Anahtarı'!$A$2:$A$121,1)<>'Cevap Anahtarı'!$C$2:$C$121))) | V17: =IF($B17="","",ROUND(T17-IF(Ayarlar!$B$6>0,U17/Ayarlar!$B$6,0),2)) | W17: =IF($B17="","",G17+J17+M17+P17+S17+V17) | X17: =IF($B17="","",RANK(W17,$W$4:$W$503))
E18: =IF($B18="","",SUMPRODUCT(('Cevap Anahtarı'!$B$2:$B$121=E$2)*('Cevap Anahtarı'!$C$2:$C$121<>"")*(MID($D18,'Cevap Anahtarı'!$A$2:$A$121,1)='Cevap Anahtarı'!$C$2:$C$121))) | F18: =IF($B18="","",SUMPRODUCT(('Cevap Anahtarı'!$B$2:$B$121=E$2)*('Cevap Anahtarı'!$C$2:$C$121<>"")*(MID($D18,'Cevap Anahtarı'!$A$2:$A$121,1)<>"")*ISNUMBER(FIND(UPPER(MID($D18,'Cevap Anahtarı'!$A$2:$A$121,1)),"ABCDE"))*(MID($D18,'Cevap Anahtarı'!$A$2:$A$121,1)<>'Cevap Anahtarı'!$C$2:$C$121))) | G18: =IF($B18="","",ROUND(E18-IF(Ayarlar!$B$6>0,F18/Ayarlar!$B$6,0),2)) | H18: =IF($B18="","",SUMPRODUCT(('Cevap Anahtarı'!$B$2:$B$121=H$2)*('Cevap Anahtarı'!$C$2:$C$121<>"")*(MID($D18,'Cevap Anahtarı'!$A$2:$A$121,1)='Cevap Anahtarı'!$C$2:$C$121))) | I18: =IF($B18="","",SUMPRODUCT(('Cevap Anahtarı'!$B$2:$B$121=H$2)*('Cevap Anahtarı'!$C$2:$C$121<>"")*(MID($D18,'Cevap Anahtarı'!$A$2:$A$121,1)<>"")*ISNUMBER(FIND(UPPER(MID($D18,'Cevap Anahtarı'!$A$2:$A$121,1)),"ABCDE"))*(MID($D18,'Cevap Anahtarı'!$A$2:$A$121,1)<>'Cevap Anahtarı'!$C$2:$C$121))) | J18: =IF($B18="","",ROUND(H18-IF(Ayarlar!$B$6>0,I18/Ayarlar!$B$6,0),2)) | K18: =IF($B18="","",SUMPRODUCT(('Cevap Anahtarı'!$B$2:$B$121=K$2)*('Cevap Anahtarı'!$C$2:$C$121<>"")*(MID($D18,'Cevap Anahtarı'!$A$2:$A$121,1)='Cevap Anahtarı'!$C$2:$C$121))) | L18: =IF($B18="","",SUMPRODUCT(('Cevap Anahtarı'!$B$2:$B$121=K$2)*('Cevap Anahtarı'!$C$2:$C$121<>"")*(MID($D18,'Cevap Anahtarı'!$A$2:$A$121,1)<>"")*ISNUMBER(FIND(UPPER(MID($D18,'Cevap Anahtarı'!$A$2:$A$121,1)),"ABCDE"))*(MID($D18,'Cevap Anahtarı'!$A$2:$A$121,1)<>'Cevap Anahtarı'!$C$2:$C$121))) | M18: =IF($B18="","",ROUND(K18-IF(Ayarlar!$B$6>0,L18/Ayarlar!$B$6,0),2)) | N18: =IF($B18="","",SUMPRODUCT(('Cevap Anahtarı'!$B$2:$B$121=N$2)*('Cevap Anahtarı'!$C$2:$C$121<>"")*(MID($D18,'Cevap Anahtarı'!$A$2:$A$121,1)='Cevap Anahtarı'!$C$2:$C$121))) | O18: =IF($B18="","",SUMPRODUCT(('Cevap Anahtarı'!$B$2:$B$121=N$2)*('Cevap Anahtarı'!$C$2:$C$121<>"")*(MID($D18,'Cevap Anahtarı'!$A$2:$A$121,1)<>"")*ISNUMBER(FIND(UPPER(MID($D18,'Cevap Anahtarı'!$A$2:$A$121,1)),"ABCDE"))*(MID($D18,'Cevap Anahtarı'!$A$2:$A$121,1)<>'Cevap Anahtarı'!$C$2:$C$121))) | P18: =IF($B18="","",ROUND(N18-IF(Ayarlar!$B$6>0,O18/Ayarlar!$B$6,0),2)) | Q18: =IF($B18="","",SUMPRODUCT(('Cevap Anahtarı'!$B$2:$B$121=Q$2)*('Cevap Anahtarı'!$C$2:$C$121<>"")*(MID($D18,'Cevap Anahtarı'!$A$2:$A$121,1)='Cevap Anahtarı'!$C$2:$C$121))) | R18: =IF($B18="","",SUMPRODUCT(('Cevap Anahtarı'!$B$2:$B$121=Q$2)*('Cevap Anahtarı'!$C$2:$C$121<>"")*(MID($D18,'Cevap Anahtarı'!$A$2:$A$121,1)<>"")*ISNUMBER(FIND(UPPER(MID($D18,'Cevap Anahtarı'!$A$2:$A$121,1)),"ABCDE"))*(MID($D18,'Cevap Anahtarı'!$A$2:$A$121,1)<>'Cevap Anahtarı'!$C$2:$C$121))) | S18: =IF($B18="","",ROUND(Q18-IF(Ayarlar!$B$6>0,R18/Ayarlar!$B$6,0),2)) | T18: =IF($B18="","",SUMPRODUCT(('Cevap Anahtarı'!$B$2:$B$121=T$2)*('Cevap Anahtarı'!$C$2:$C$121<>"")*(MID($D18,'Cevap Anahtarı'!$A$2:$A$121,1)='Cevap Anahtarı'!$C$2:$C$121))) | U18: =IF($B18="","",SUMPRODUCT(('Cevap Anahtarı'!$B$2:$B$121=T$2)*('Cevap Anahtarı'!$C$2:$C$121<>"")*(MID($D18,'Cevap Anahtarı'!$A$2:$A$121,1)<>"")*ISNUMBER(FIND(UPPER(MID($D18,'Cevap Anahtarı'!$A$2:$A$121,1)),"ABCDE"))*(MID($D18,'Cevap Anahtarı'!$A$2:$A$121,1)<>'Cevap Anahtarı'!$C$2:$C$121))) | V18: =IF($B18="","",ROUND(T18-IF(Ayarlar!$B$6>0,U18/Ayarlar!$B$6,0),2)) | W18: =IF($B18="","",G18+J18+M18+P18+S18+V18) | X18: =IF($B18="","",RANK(W18,$W$4:$W$503))
E19: =IF($B19="","",SUMPRODUCT(('Cevap Anahtarı'!$B$2:$B$121=E$2)*('Cevap Anahtarı'!$C$2:$C$121<>"")*(MID($D19,'Cevap Anahtarı'!$A$2:$A$121,1)='Cevap Anahtarı'!$C$2:$C$121))) | F19: =IF($B19="","",SUMPRODUCT(('Cevap Anahtarı'!$B$2:$B$121=E$2)*('Cevap Anahtarı'!$C$2:$C$121<>"")*(MID($D19,'Cevap Anahtarı'!$A$2:$A$121,1)<>"")*ISNUMBER(FIND(UPPER(MID($D19,'Cevap Anahtarı'!$A$2:$A$121,1)),"ABCDE"))*(MID($D19,'Cevap Anahtarı'!$A$2:$A$121,1)<>'Cevap Anahtarı'!$C$2:$C$121))) | G19: =IF($B19="","",ROUND(E19-IF(Ayarlar!$B$6>0,F19/Ayarlar!$B$6,0),2)) | H19: =IF($B19="","",SUMPRODUCT(('Cevap Anahtarı'!$B$2:$B$121=H$2)*('Cevap Anahtarı'!$C$2:$C$121<>"")*(MID($D19,'Cevap Anahtarı'!$A$2:$A$121,1)='Cevap Anahtarı'!$C$2:$C$121))) | I19: =IF($B19="","",SUMPRODUCT(('Cevap Anahtarı'!$B$2:$B$121=H$2)*('Cevap Anahtarı'!$C$2:$C$121<>"")*(MID($D19,'Cevap Anahtarı'!$A$2:$A$121,1)<>"")*ISNUMBER(FIND(UPPER(MID($D19,'Cevap Anahtarı'!$A$2:$A$121,1)),"ABCDE"))*(MID($D19,'Cevap Anahtarı'!$A$2:$A$121,1)<>'Cevap Anahtarı'!$C$2:$C$121))) | J19: =IF($B19="","",ROUND(H19-IF(Ayarlar!$B$6>0,I19/Ayarlar!$B$6,0),2)) | K19: =IF($B19="","",SUMPRODUCT(('Cevap Anahtarı'!$B$2:$B$121=K$2)*('Cevap Anahtarı'!$C$2:$C$121<>"")*(MID($D19,'Cevap Anahtarı'!$A$2:$A$121,1)='Cevap Anahtarı'!$C$2:$C$121))) | L19: =IF($B19="","",SUMPRODUCT(('Cevap Anahtarı'!$B$2:$B$121=K$2)*('Cevap Anahtarı'!$C$2:$C$121<>"")*(MID($D19,'Cevap Anahtarı'!$A$2:$A$121,1)<>"")*ISNUMBER(FIND(UPPER(MID($D19,'Cevap Anahtarı'!$A$2:$A$121,1)),"ABCDE"))*(MID($D19,'Cevap Anahtarı'!$A$2:$A$121,1)<>'Cevap Anahtarı'!$C$2:$C$121))) | M19: =IF($B19="","",ROUND(K19-IF(Ayarlar!$B$6>0,L19/Ayarlar!$B$6,0),2)) | N19: =IF($B19="","",SUMPRODUCT(('Cevap Anahtarı'!$B$2:$B$121=N$2)*('Cevap Anahtarı'!$C$2:$C$121<>"")*(MID($D19,'Cevap Anahtarı'!$A$2:$A$121,1)='Cevap Anahtarı'!$C$2:$C$121))) | O19: =IF($B19="","",SUMPRODUCT(('Cevap Anahtarı'!$B$2:$B$121=N$2)*('Cevap Anahtarı'!$C$2:$C$121<>"")*(MID($D19,'Cevap Anahtarı'!$A$2:$A$121,1)<>"")*ISNUMBER(FIND(UPPER(MID($D19,'Cevap Anahtarı'!$A$2:$A$121,1)),"ABCDE"))*(MID($D19,'Cevap Anahtarı'!$A$2:$A$121,1)<>'Cevap Anahtarı'!$C$2:$C$121))) | P19: =IF($B19="","",ROUND(N19-IF(Ayarlar!$B$6>0,O19/Ayarlar!$B$6,0),2)) | Q19: =IF($B19="","",SUMPRODUCT(('Cevap Anahtarı'!$B$2:$B$121=Q$2)*('Cevap Anahtarı'!$C$2:$C$121<>"")*(MID($D19,'Cevap Anahtarı'!$A$2:$A$121,1)='Cevap Anahtarı'!$C$2:$C$121))) | R19: =IF($B19="","",SUMPRODUCT(('Cevap Anahtarı'!$B$2:$B$121=Q$2)*('Cevap Anahtarı'!$C$2:$C$121<>"")*(MID($D19,'Cevap Anahtarı'!$A$2:$A$121,1)<>"")*ISNUMBER(FIND(UPPER(MID($D19,'Cevap Anahtarı'!$A$2:$A$121,1)),"ABCDE"))*(MID($D19,'Cevap Anahtarı'!$A$2:$A$121,1)<>'Cevap Anahtarı'!$C$2:$C$121))) | S19: =IF($B19="","",ROUND(Q19-IF(Ayarlar!$B$6>0,R19/Ayarlar!$B$6,0),2)) | T19: =IF($B19="","",SUMPRODUCT(('Cevap Anahtarı'!$B$2:$B$121=T$2)*('Cevap Anahtarı'!$C$2:$C$121<>"")*(MID($D19,'Cevap Anahtarı'!$A$2:$A$121,1)='Cevap Anahtarı'!$C$2:$C$121))) | U19: =IF($B19="","",SUMPRODUCT(('Cevap Anahtarı'!$B$2:$B$121=T$2)*('Cevap Anahtarı'!$C$2:$C$121<>"")*(MID($D19,'Cevap Anahtarı'!$A$2:$A$121,1)<>"")*ISNUMBER(FIND(UPPER(MID($D19,'Cevap Anahtarı'!$A$2:$A$121,1)),"ABCDE"))*(MID($D19,'Cevap Anahtarı'!$A$2:$A$121,1)<>'Cevap Anahtarı'!$C$2:$C$121))) | V19: =IF($B19="","",ROUND(T19-IF(Ayarlar!$B$6>0,U19/Ayarlar!$B$6,0),2)) | W19: =IF($B19="","",G19+J19+M19+P19+S19+V19) | X19: =IF($B19="","",RANK(W19,$W$4:$W$503))
E20: =IF($B20="","",SUMPRODUCT(('Cevap Anahtarı'!$B$2:$B$121=E$2)*('Cevap Anahtarı'!$C$2:$C$121<>"")*(MID($D20,'Cevap Anahtarı'!$A$2:$A$121,1)='Cevap Anahtarı'!$C$2:$C$121))) | F20: =IF($B20="","",SUMPRODUCT(('Cevap Anahtarı'!$B$2:$B$121=E$2)*('Cevap Anahtarı'!$C$2:$C$121<>"")*(MID($D20,'Cevap Anahtarı'!$A$2:$A$121,1)<>"")*ISNUMBER(FIND(UPPER(MID($D20,'Cevap Anahtarı'!$A$2:$A$121,1)),"ABCDE"))*(MID($D20,'Cevap Anahtarı'!$A$2:$A$121,1)<>'Cevap Anahtarı'!$C$2:$C$121))) | G20: =IF($B20="","",ROUND(E20-IF(Ayarlar!$B$6>0,F20/Ayarlar!$B$6,0),2)) | H20: =IF($B20="","",SUMPRODUCT(('Cevap Anahtarı'!$B$2:$B$121=H$2)*('Cevap Anahtarı'!$C$2:$C$121<>"")*(MID($D20,'Cevap Anahtarı'!$A$2:$A$121,1)='Cevap Anahtarı'!$C$2:$C$121))) | I20: =IF($B20="","",SUMPRODUCT(('Cevap Anahtarı'!$B$2:$B$121=H$2)*('Cevap Anahtarı'!$C$2:$C$121<>"")*(MID($D20,'Cevap Anahtarı'!$A$2:$A$121,1)<>"")*ISNUMBER(FIND(UPPER(MID($D20,'Cevap Anahtarı'!$A$2:$A$121,1)),"ABCDE"))*(MID($D20,'Cevap Anahtarı'!$A$2:$A$121,1)<>'Cevap Anahtarı'!$C$2:$C$121))) | J20: =IF($B20="","",ROUND(H20-IF(Ayarlar!$B$6>0,I20/Ayarlar!$B$6,0),2)) | K20: =IF($B20="","",SUMPRODUCT(('Cevap Anahtarı'!$B$2:$B$121=K$2)*('Cevap Anahtarı'!$C$2:$C$121<>"")*(MID($D20,'Cevap Anahtarı'!$A$2:$A$121,1)='Cevap Anahtarı'!$C$2:$C$121))) | L20: =IF($B20="","",SUMPRODUCT(('Cevap Anahtarı'!$B$2:$B$121=K$2)*('Cevap Anahtarı'!$C$2:$C$121<>"")*(MID($D20,'Cevap Anahtarı'!$A$2:$A$121,1)<>"")*ISNUMBER(FIND(UPPER(MID($D20,'Cevap Anahtarı'!$A$2:$A$121,1)),"ABCDE"))*(MID($D20,'Cevap Anahtarı'!$A$2:$A$121,1)<>'Cevap Anahtarı'!$C$2:$C$121))) | M20: =IF($B20="","",ROUND(K20-IF(Ayarlar!$B$6>0,L20/Ayarlar!$B$6,0),2)) | N20: =IF($B20="","",SUMPRODUCT(('Cevap Anahtarı'!$B$2:$B$121=N$2)*('Cevap Anahtarı'!$C$2:$C$121<>"")*(MID($D20,'Cevap Anahtarı'!$A$2:$A$121,1)='Cevap Anahtarı'!$C$2:$C$121))) | O20: =IF($B20="","",SUMPRODUCT(('Cevap Anahtarı'!$B$2:$B$121=N$2)*('Cevap Anahtarı'!$C$2:$C$121<>"")*(MID($D20,'Cevap Anahtarı'!$A$2:$A$121,1)<>"")*ISNUMBER(FIND(UPPER(MID($D20,'Cevap Anahtarı'!$A$2:$A$121,1)),"ABCDE"))*(MID($D20,'Cevap Anahtarı'!$A$2:$A$121,1)<>'Cevap Anahtarı'!$C$2:$C$121))) | P20: =IF($B20="","",ROUND(N20-IF(Ayarlar!$B$6>0,O20/Ayarlar!$B$6,0),2)) | Q20: =IF($B20="","",SUMPRODUCT(('Cevap Anahtarı'!$B$2:$B$121=Q$2)*('Cevap Anahtarı'!$C$2:$C$121<>"")*(MID($D20,'Cevap Anahtarı'!$A$2:$A$121,1)='Cevap Anahtarı'!$C$2:$C$121))) | R20: =IF($B20="","",SUMPRODUCT(('Cevap Anahtarı'!$B$2:$B$121=Q$2)*('Cevap Anahtarı'!$C$2:$C$121<>"")*(MID($D20,'Cevap Anahtarı'!$A$2:$A$121,1)<>"")*ISNUMBER(FIND(UPPER(MID($D20,'Cevap Anahtarı'!$A$2:$A$121,1)),"ABCDE"))*(MID($D20,'Cevap Anahtarı'!$A$2:$A$121,1)<>'Cevap Anahtarı'!$C$2:$C$121))) | S20: =IF($B20="","",ROUND(Q20-IF(Ayarlar!$B$6>0,R20/Ayarlar!$B$6,0),2)) | T20: =IF($B20="","",SUMPRODUCT(('Cevap Anahtarı'!$B$2:$B$121=T$2)*('Cevap Anahtarı'!$C$2:$C$121<>"")*(MID($D20,'Cevap Anahtarı'!$A$2:$A$121,1)='Cevap Anahtarı'!$C$2:$C$121))) | U20: =IF($B20="","",SUMPRODUCT(('Cevap Anahtarı'!$B$2:$B$121=T$2)*('Cevap Anahtarı'!$C$2:$C$121<>"")*(MID($D20,'Cevap Anahtarı'!$A$2:$A$121,1)<>"")*ISNUMBER(FIND(UPPER(MID($D20,'Cevap Anahtarı'!$A$2:$A$121,1)),"ABCDE"))*(MID($D20,'Cevap Anahtarı'!$A$2:$A$121,1)<>'Cevap Anahtarı'!$C$2:$C$121))) | V20: =IF($B20="","",ROUND(T20-IF(Ayarlar!$B$6>0,U20/Ayarlar!$B$6,0),2)) | W20: =IF($B20="","",G20+J20+M20+P20+S20+V20) | X20: =IF($B20="","",RANK(W20,$W$4:$W$503))
E21: =IF($B21="","",SUMPRODUCT(('Cevap Anahtarı'!$B$2:$B$121=E$2)*('Cevap Anahtarı'!$C$2:$C$121<>"")*(MID($D21,'Cevap Anahtarı'!$A$2:$A$121,1)='Cevap Anahtarı'!$C$2:$C$121))) | F21: =IF($B21="","",SUMPRODUCT(('Cevap Anahtarı'!$B$2:$B$121=E$2)*('Cevap Anahtarı'!$C$2:$C$121<>"")*(MID($D21,'Cevap Anahtarı'!$A$2:$A$121,1)<>"")*ISNUMBER(FIND(UPPER(MID($D21,'Cevap Anahtarı'!$A$2:$A$121,1)),"ABCDE"))*(MID($D21,'Cevap Anahtarı'!$A$2:$A$121,1)<>'Cevap Anahtarı'!$C$2:$C$121))) | G21: =IF($B21="","",ROUND(E21-IF(Ayarlar!$B$6>0,F21/Ayarlar!$B$6,0),2)) | H21: =IF($B21="","",SUMPRODUCT(('Cevap Anahtarı'!$B$2:$B$121=H$2)*('Cevap Anahtarı'!$C$2:$C$121<>"")*(MID($D21,'Cevap Anahtarı'!$A$2:$A$121,1)='Cevap Anahtarı'!$C$2:$C$121))) | I21: =IF($B21="","",SUMPRODUCT(('Cevap Anahtarı'!$B$2:$B$121=H$2)*('Cevap Anahtarı'!$C$2:$C$121<>"")*(MID($D21,'Cevap Anahtarı'!$A$2:$A$121,1)<>"")*ISNUMBER(FIND(UPPER(MID($D21,'Cevap Anahtarı'!$A$2:$A$121,1)),"ABCDE"))*(MID($D21,'Cevap Anahtarı'!$A$2:$A$121,1)<>'Cevap Anahtarı'!$C$2:$C$121))) | J21: =IF($B21="","",ROUND(H21-IF(Ayarlar!$B$6>0,I21/Ayarlar!$B$6,0),2)) | K21: =IF($B21="","",SUMPRODUCT(('Cevap Anahtarı'!$B$2:$B$121=K$2)*('Cevap Anahtarı'!$C$2:$C$121<>"")*(MID($D21,'Cevap Anahtarı'!$A$2:$A$121,1)='Cevap Anahtarı'!$C$2:$C$121))) | L21: =IF($B21="","",SUMPRODUCT(('Cevap Anahtarı'!$B$2:$B$121=K$2)*('Cevap Anahtarı'!$C$2:$C$121<>"")*(MID($D21,'Cevap Anahtarı'!$A$2:$A$121,1)<>"")*ISNUMBER(FIND(UPPER(MID($D21,'Cevap Anahtarı'!$A$2:$A$121,1)),"ABCDE"))*(MID($D21,'Cevap Anahtarı'!$A$2:$A$121,1)<>'Cevap Anahtarı'!$C$2:$C$121))) | M21: =IF($B21="","",ROUND(K21-IF(Ayarlar!$B$6>0,L21/Ayarlar!$B$6,0),2)) | N21: =IF($B21="","",SUMPRODUCT(('Cevap Anahtarı'!$B$2:$B$121=N$2)*('Cevap Anahtarı'!$C$2:$C$121<>"")*(MID($D21,'Cevap Anahtarı'!$A$2:$A$121,1)='Cevap Anahtarı'!$C$2:$C$121))) | O21: =IF($B21="","",SUMPRODUCT(('Cevap Anahtarı'!$B$2:$B$121=N$2)*('Cevap Anahtarı'!$C$2:$C$121<>"")*(MID($D21,'Cevap Anahtarı'!$A$2:$A$121,1)<>"")*ISNUMBER(FIND(UPPER(MID($D21,'Cevap Anahtarı'!$A$2:$A$121,1)),"ABCDE"))*(MID($D21,'Cevap Anahtarı'!$A$2:$A$121,1)<>'Cevap Anahtarı'!$C$2:$C$121))) | P21: =IF($B21="","",ROUND(N21-IF(Ayarlar!$B$6>0,O21/Ayarlar!$B$6,0),2)) | Q21: =IF($B21="","",SUMPRODUCT(('Cevap Anahtarı'!$B$2:$B$121=Q$2)*('Cevap Anahtarı'!$C$2:$C$121<>"")*(MID($D21,'Cevap Anahtarı'!$A$2:$A$121,1)='Cevap Anahtarı'!$C$2:$C$121))) | R21: =IF($B21="","",SUMPRODUCT(('Cevap Anahtarı'!$B$2:$B$121=Q$2)*('Cevap Anahtarı'!$C$2:$C$121<>"")*(MID($D21,'Cevap Anahtarı'!$A$2:$A$121,1)<>"")*ISNUMBER(FIND(UPPER(MID($D21,'Cevap Anahtarı'!$A$2:$A$121,1)),"ABCDE"))*(MID($D21,'Cevap Anahtarı'!$A$2:$A$121,1)<>'Cevap Anahtarı'!$C$2:$C$121))) | S21: =IF($B21="","",ROUND(Q21-IF(Ayarlar!$B$6>0,R21/Ayarlar!$B$6,0),2)) | T21: =IF($B21="","",SUMPRODUCT(('Cevap Anahtarı'!$B$2:$B$121=T$2)*('Cevap Anahtarı'!$C$2:$C$121<>"")*(MID($D21,'Cevap Anahtarı'!$A$2:$A$121,1)='Cevap Anahtarı'!$C$2:$C$121))) | U21: =IF($B21="","",SUMPRODUCT(('Cevap Anahtarı'!$B$2:$B$121=T$2)*('Cevap Anahtarı'!$C$2:$C$121<>"")*(MID($D21,'Cevap Anahtarı'!$A$2:$A$121,1)<>"")*ISNUMBER(FIND(UPPER(MID($D21,'Cevap Anahtarı'!$A$2:$A$121,1)),"ABCDE"))*(MID($D21,'Cevap Anahtarı'!$A$2:$A$121,1)<>'Cevap Anahtarı'!$C$2:$C$121))) | V21: =IF($B21="","",ROUND(T21-IF(Ayarlar!$B$6>0,U21/Ayarlar!$B$6,0),2)) | W21: =IF($B21="","",G21+J21+M21+P21+S21+V21) | X21: =IF($B21="","",RANK(W21,$W$4:$W$503))
E22: =IF($B22="","",SUMPRODUCT(('Cevap Anahtarı'!$B$2:$B$121=E$2)*('Cevap Anahtarı'!$C$2:$C$121<>"")*(MID($D22,'Cevap Anahtarı'!$A$2:$A$121,1)='Cevap Anahtarı'!$C$2:$C$121))) | F22: =IF($B22="","",SUMPRODUCT(('Cevap Anahtarı'!$B$2:$B$121=E$2)*('Cevap Anahtarı'!$C$2:$C$121<>"")*(MID($D22,'Cevap Anahtarı'!$A$2:$A$121,1)<>"")*ISNUMBER(FIND(UPPER(MID($D22,'Cevap Anahtarı'!$A$2:$A$121,1)),"ABCDE"))*(MID($D22,'Cevap Anahtarı'!$A$2:$A$121,1)<>'Cevap Anahtarı'!$C$2:$C$121))) | G22: =IF($B22="","",ROUND(E22-IF(Ayarlar!$B$6>0,F22/Ayarlar!$B$6,0),2)) | H22: =IF($B22="","",SUMPRODUCT(('Cevap Anahtarı'!$B$2:$B$121=H$2)*('Cevap Anahtarı'!$C$2:$C$121<>"")*(MID($D22,'Cevap Anahtarı'!$A$2:$A$121,1)='Cevap Anahtarı'!$C$2:$C$121))) | I22: =IF($B22="","",SUMPRODUCT(('Cevap Anahtarı'!$B$2:$B$121=H$2)*('Cevap Anahtarı'!$C$2:$C$121<>"")*(MID($D22,'Cevap Anahtarı'!$A$2:$A$121,1)<>"")*ISNUMBER(FIND(UPPER(MID($D22,'Cevap Anahtarı'!$A$2:$A$121,1)),"ABCDE"))*(MID($D22,'Cevap Anahtarı'!$A$2:$A$121,1)<>'Cevap Anahtarı'!$C$2:$C$121))) | J22: =IF($B22="","",ROUND(H22-IF(Ayarlar!$B$6>0,I22/Ayarlar!$B$6,0),2)) | K22: =IF($B22="","",SUMPRODUCT(('Cevap Anahtarı'!$B$2:$B$121=K$2)*('Cevap Anahtarı'!$C$2:$C$121<>"")*(MID($D22,'Cevap Anahtarı'!$A$2:$A$121,1)='Cevap Anahtarı'!$C$2:$C$121))) | L22: =IF($B22="","",SUMPRODUCT(('Cevap Anahtarı'!$B$2:$B$121=K$2)*('Cevap Anahtarı'!$C$2:$C$121<>"")*(MID($D22,'Cevap Anahtarı'!$A$2:$A$121,1)<>"")*ISNUMBER(FIND(UPPER(MID($D22,'Cevap Anahtarı'!$A$2:$A$121,1)),"ABCDE"))*(MID($D22,'Cevap Anahtarı'!$A$2:$A$121,1)<>'Cevap Anahtarı'!$C$2:$C$121))) | M22: =IF($B22="","",ROUND(K22-IF(Ayarlar!$B$6>0,L22/Ayarlar!$B$6,0),2)) | N22: =IF($B22="","",SUMPRODUCT(('Cevap Anahtarı'!$B$2:$B$121=N$2)*('Cevap Anahtarı'!$C$2:$C$121<>"")*(MID($D22,'Cevap Anahtarı'!$A$2:$A$121,1)='Cevap Anahtarı'!$C$2:$C$121))) | O22: =IF($B22="","",SUMPRODUCT(('Cevap Anahtarı'!$B$2:$B$121=N$2)*('Cevap Anahtarı'!$C$2:$C$121<>"")*(MID($D22,'Cevap Anahtarı'!$A$2:$A$121,1)<>"")*ISNUMBER(FIND(UPPER(MID($D22,'Cevap Anahtarı'!$A$2:$A$121,1)),"ABCDE"))*(MID($D22,'Cevap Anahtarı'!$A$2:$A$121,1)<>'Cevap Anahtarı'!$C$2:$C$121))) | P22: =IF($B22="","",ROUND(N22-IF(Ayarlar!$B$6>0,O22/Ayarlar!$B$6,0),2)) | Q22: =IF($B22="","",SUMPRODUCT(('Cevap Anahtarı'!$B$2:$B$121=Q$2)*('Cevap Anahtarı'!$C$2:$C$121<>"")*(MID($D22,'Cevap Anahtarı'!$A$2:$A$121,1)='Cevap Anahtarı'!$C$2:$C$121))) | R22: =IF($B22="","",SUMPRODUCT(('Cevap Anahtarı'!$B$2:$B$121=Q$2)*('Cevap Anahtarı'!$C$2:$C$121<>"")*(MID($D22,'Cevap Anahtarı'!$A$2:$A$121,1)<>"")*ISNUMBER(FIND(UPPER(MID($D22,'Cevap Anahtarı'!$A$2:$A$121,1)),"ABCDE"))*(MID($D22,'Cevap Anahtarı'!$A$2:$A$121,1)<>'Cevap Anahtarı'!$C$2:$C$121))) | S22: =IF($B22="","",ROUND(Q22-IF(Ayarlar!$B$6>0,R22/Ayarlar!$B$6,0),2)) | T22: =IF($B22="","",SUMPRODUCT(('Cevap Anahtarı'!$B$2:$B$121=T$2)*('Cevap Anahtarı'!$C$2:$C$121<>"")*(MID($D22,'Cevap Anahtarı'!$A$2:$A$121,1)='Cevap Anahtarı'!$C$2:$C$121))) | U22: =IF($B22="","",SUMPRODUCT(('Cevap Anahtarı'!$B$2:$B$121=T$2)*('Cevap Anahtarı'!$C$2:$C$121<>"")*(MID($D22,'Cevap Anahtarı'!$A$2:$A$121,1)<>"")*ISNUMBER(FIND(UPPER(MID($D22,'Cevap Anahtarı'!$A$2:$A$121,1)),"ABCDE"))*(MID($D22,'Cevap Anahtarı'!$A$2:$A$121,1)<>'Cevap Anahtarı'!$C$2:$C$121))) | V22: =IF($B22="","",ROUND(T22-IF(Ayarlar!$B$6>0,U22/Ayarlar!$B$6,0),2)) | W22: =IF($B22="","",G22+J22+M22+P22+S22+V22) | X22: =IF($B22="","",RANK(W22,$W$4:$W$503))
E23: =IF($B23="","",SUMPRODUCT(('Cevap Anahtarı'!$B$2:$B$121=E$2)*('Cevap Anahtarı'!$C$2:$C$121<>"")*(MID($D23,'Cevap Anahtarı'!$A$2:$A$121,1)='Cevap Anahtarı'!$C$2:$C$121))) | F23: =IF($B23="","",SUMPRODUCT(('Cevap Anahtarı'!$B$2:$B$121=E$2)*('Cevap Anahtarı'!$C$2:$C$121<>"")*(MID($D23,'Cevap Anahtarı'!$A$2:$A$121,1)<>"")*ISNUMBER(FIND(UPPER(MID($D23,'Cevap Anahtarı'!$A$2:$A$121,1)),"ABCDE"))*(MID($D23,'Cevap Anahtarı'!$A$2:$A$121,1)<>'Cevap Anahtarı'!$C$2:$C$121))) | G23: =IF($B23="","",ROUND(E23-IF(Ayarlar!$B$6>0,F23/Ayarlar!$B$6,0),2)) | H23: =IF($B23="","",SUMPRODUCT(('Cevap Anahtarı'!$B$2:$B$121=H$2)*('Cevap Anahtarı'!$C$2:$C$121<>"")*(MID($D23,'Cevap Anahtarı'!$A$2:$A$121,1)='Cevap Anahtarı'!$C$2:$C$121))) | I23: =IF($B23="","",SUMPRODUCT(('Cevap Anahtarı'!$B$2:$B$121=H$2)*('Cevap Anahtarı'!$C$2:$C$121<>"")*(MID($D23,'Cevap Anahtarı'!$A$2:$A$121,1)<>"")*ISNUMBER(FIND(UPPER(MID($D23,'Cevap Anahtarı'!$A$2:$A$121,1)),"ABCDE"))*(MID($D23,'Cevap Anahtarı'!$A$2:$A$121,1)<>'Cevap Anahtarı'!$C$2:$C$121))) | J23: =IF($B23="","",ROUND(H23-IF(Ayarlar!$B$6>0,I23/Ayarlar!$B$6,0),2)) | K23: =IF($B23="","",SUMPRODUCT(('Cevap Anahtarı'!$B$2:$B$121=K$2)*('Cevap Anahtarı'!$C$2:$C$121<>"")*(MID($D23,'Cevap Anahtarı'!$A$2:$A$121,1)='Cevap Anahtarı'!$C$2:$C$121))) | L23: =IF($B23="","",SUMPRODUCT(('Cevap Anahtarı'!$B$2:$B$121=K$2)*('Cevap Anahtarı'!$C$2:$C$121<>"")*(MID($D23,'Cevap Anahtarı'!$A$2:$A$121,1)<>"")*ISNUMBER(FIND(UPPER(MID($D23,'Cevap Anahtarı'!$A$2:$A$121,1)),"ABCDE"))*(MID($D23,'Cevap Anahtarı'!$A$2:$A$121,1)<>'Cevap Anahtarı'!$C$2:$C$121))) | M23: =IF($B23="","",ROUND(K23-IF(Ayarlar!$B$6>0,L23/Ayarlar!$B$6,0),2)) | N23: =IF($B23="","",SUMPRODUCT(('Cevap Anahtarı'!$B$2:$B$121=N$2)*('Cevap Anahtarı'!$C$2:$C$121<>"")*(MID($D23,'Cevap Anahtarı'!$A$2:$A$121,1)='Cevap Anahtarı'!$C$2:$C$121))) | O23: =IF($B23="","",SUMPRODUCT(('Cevap Anahtarı'!$B$2:$B$121=N$2)*('Cevap Anahtarı'!$C$2:$C$121<>"")*(MID($D23,'Cevap Anahtarı'!$A$2:$A$121,1)<>"")*ISNUMBER(FIND(UPPER(MID($D23,'Cevap Anahtarı'!$A$2:$A$121,1)),"ABCDE"))*(MID($D23,'Cevap Anahtarı'!$A$2:$A$121,1)<>'Cevap Anahtarı'!$C$2:$C$121))) | P23: =IF($B23="","",ROUND(N23-IF(Ayarlar!$B$6>0,O23/Ayarlar!$B$6,0),2)) | Q23: =IF($B23="","",SUMPRODUCT(('Cevap Anahtarı'!$B$2:$B$121=Q$2)*('Cevap Anahtarı'!$C$2:$C$121<>"")*(MID($D23,'Cevap Anahtarı'!$A$2:$A$121,1)='Cevap Anahtarı'!$C$2:$C$121))) | R23: =IF($B23="","",SUMPRODUCT(('Cevap Anahtarı'!$B$2:$B$121=Q$2)*('Cevap Anahtarı'!$C$2:$C$121<>"")*(MID($D23,'Cevap Anahtarı'!$A$2:$A$121,1)<>"")*ISNUMBER(FIND(UPPER(MID($D23,'Cevap Anahtarı'!$A$2:$A$121,1)),"ABCDE"))*(MID($D23,'Cevap Anahtarı'!$A$2:$A$121,1)<>'Cevap Anahtarı'!$C$2:$C$121))) | S23: =IF($B23="","",ROUND(Q23-IF(Ayarlar!$B$6>0,R23/Ayarlar!$B$6,0),2)) | T23: =IF($B23="","",SUMPRODUCT(('Cevap Anahtarı'!$B$2:$B$121=T$2)*('Cevap Anahtarı'!$C$2:$C$121<>"")*(MID($D23,'Cevap Anahtarı'!$A$2:$A$121,1)='Cevap Anahtarı'!$C$2:$C$121))) | U23: =IF($B23="","",SUMPRODUCT(('Cevap Anahtarı'!$B$2:$B$121=T$2)*('Cevap Anahtarı'!$C$2:$C$121<>"")*(MID($D23,'Cevap Anahtarı'!$A$2:$A$121,1)<>"")*ISNUMBER(FIND(UPPER(MID($D23,'Cevap Anahtarı'!$A$2:$A$121,1)),"ABCDE"))*(MID($D23,'Cevap Anahtarı'!$A$2:$A$121,1)<>'Cevap Anahtarı'!$C$2:$C$121))) | V23: =IF($B23="","",ROUND(T23-IF(Ayarlar!$B$6>0,U23/Ayarlar!$B$6,0),2)) | W23: =IF($B23="","",G23+J23+M23+P23+S23+V23) | X23: =IF($B23="","",RANK(W23,$W$4:$W$503))
... E503: =IF($B503="","",SUMPRODUCT(('Cevap Anahtarı'!$B$2:$B$121=E$2)*('Cevap Anahtarı'!$C$2:$C$121<>"")*(MID($D503,'Cevap Anahtarı'!$A$2:$A$121,1)='Cevap Anahtarı'!$C$2:$C$121))) | F503: =IF($B503="","",SUMPRODUCT(('Cevap Anahtarı'!$B$2:$B$121=E$2)*('Cevap Anahtarı'!$C$2:$C$121<>"")*(MID($D503,'Cevap Anahtarı'!$A$2:$A$121,1)<>"")*ISNUMBER(FIND(UPPER(MID($D503,'Cevap Anahtarı'!$A$2:$A$121,1)),"ABCDE"))*(MID($D503,'Cevap Anahtarı'!$A$2:$A$121,1)<>'Cevap Anahtarı'!$C$2:$C$121))) | G503: =IF($B503="","",ROUND(E503-IF(Ayarlar!$B$6>0,F503/Ayarlar!$B$6,0),2)) | H503: =IF($B503="","",SUMPRODUCT(('Cevap Anahtarı'!$B$2:$B$121=H$2)*('Cevap Anahtarı'!$C$2:$C$121<>"")*(MID($D503,'Cevap Anahtarı'!$A$2:$A$121,1)='Cevap Anahtarı'!$C$2:$C$121))) | I503: =IF($B503="","",SUMPRODUCT(('Cevap Anahtarı'!$B$2:$B$121=H$2)*('Cevap Anahtarı'!$C$2:$C$121<>"")*(MID($D503,'Cevap Anahtarı'!$A$2:$A$121,1)<>"")*ISNUMBER(FIND(UPPER(MID($D503,'Cevap Anahtarı'!$A$2:$A$121,1)),"ABCDE"))*(MID($D503,'Cevap Anahtarı'!$A$2:$A$121,1)<>'Cevap Anahtarı'!$C$2:$C$121))) | J503: =IF($B503="","",ROUND(H503-IF(Ayarlar!$B$6>0,I503/Ayarlar!$B$6,0),2)) | K503: =IF($B503="","",SUMPRODUCT(('Cevap Anahtarı'!$B$2:$B$121=K$2)*('Cevap Anahtarı'!$C$2:$C$121<>"")*(MID($D503,'Cevap Anahtarı'!$A$2:$A$121,1)='Cevap Anahtarı'!$C$2:$C$121))) | L503: =IF($B503="","",SUMPRODUCT(('Cevap Anahtarı'!$B$2:$B$121=K$2)*('Cevap Anahtarı'!$C$2:$C$121<>"")*(MID($D503,'Cevap Anahtarı'!$A$2:$A$121,1)<>"")*ISNUMBER(FIND(UPPER(MID($D503,'Cevap Anahtarı'!$A$2:$A$121,1)),"ABCDE"))*(MID($D503,'Cevap Anahtarı'!$A$2:$A$121,1)<>'Cevap Anahtarı'!$C$2:$C$121))) | M503: =IF($B503="","",ROUND(K503-IF(Ayarlar!$B$6>0,L503/Ayarlar!$B$6,0),2)) | N503: =IF($B503="","",SUMPRODUCT(('Cevap Anahtarı'!$B$2:$B$121=N$2)*('Cevap Anahtarı'!$C$2:$C$121<>"")*(MID($D503,'Cevap Anahtarı'!$A$2:$A$121,1)='Cevap Anahtarı'!$C$2:$C$121))) | O503: =IF($B503="","",SUMPRODUCT(('Cevap Anahtarı'!$B$2:$B$121=N$2)*('Cevap Anahtarı'!$C$2:$C$121<>"")*(MID($D503,'Cevap Anahtarı'!$A$2:$A$121,1)<>"")*ISNUMBER(FIND(UPPER(MID($D503,'Cevap Anahtarı'!$A$2:$A$121,1)),"ABCDE"))*(MID($D503,'Cevap Anahtarı'!$A$2:$A$121,1)<>'Cevap Anahtarı'!$C$2:$C$121))) | P503: =IF($B503="","",ROUND(N503-IF(Ayarlar!$B$6>0,O503/Ayarlar!$B$6,0),2)) | Q503: =IF($B503="","",SUMPRODUCT(('Cevap Anahtarı'!$B$2:$B$121=Q$2)*('Cevap Anahtarı'!$C$2:$C$121<>"")*(MID($D503,'Cevap Anahtarı'!$A$2:$A$121,1)='Cevap Anahtarı'!$C$2:$C$121))) | R503: =IF($B503="","",SUMPRODUCT(('Cevap Anahtarı'!$B$2:$B$121=Q$2)*('Cevap Anahtarı'!$C$2:$C$121<>"")*(MID($D503,'Cevap Anahtarı'!$A$2:$A$121,1)<>"")*ISNUMBER(FIND(UPPER(MID($D503,'Cevap Anahtarı'!$A$2:$A$121,1)),"ABCDE"))*(MID($D503,'Cevap Anahtarı'!$A$2:$A$121,1)<>'Cevap Anahtarı'!$C$2:$C$121))) | S503: =IF($B503="","",ROUND(Q503-IF(Ayarlar!$B$6>0,R503/Ayarlar!$B$6,0),2)) | T503: =IF($B503="","",SUMPRODUCT(('Cevap Anahtarı'!$B$2:$B$121=T$2)*('Cevap Anahtarı'!$C$2:$C$121<>"")*(MID($D503,'Cevap Anahtarı'!$A$2:$A$121,1)='Cevap Anahtarı'!$C$2:$C$121))) | U503: =IF($B503="","",SUMPRODUCT(('Cevap Anahtarı'!$B$2:$B$121=T$2)*('Cevap Anahtarı'!$C$2:$C$121<>"")*(MID($D503,'Cevap Anahtarı'!$A$2:$A$121,1)<>"")*ISNUMBER(FIND(UPPER(MID($D503,'Cevap Anahtarı'!$A$2:$A$121,1)),"ABCDE"))*(MID($D503,'Cevap Anahtarı'!$A$2:$A$121,1)<>'Cevap Anahtarı'!$C$2:$C$121))) | V503: =IF($B503="","",ROUND(T503-IF(Ayarlar!$B$6>0,U503/Ayarlar!$B$6,0),2)) | W503: =IF($B503="","",G503+J503+M503+P503+S503+V503) | X503: =IF($B503="","",RANK(W503,$W$4:$W$503))

Sheet Özet
A1: Ders ve şube ortalamaları
E2: Şube net ortalamaları. Şube adlarını 3. satırda değiştirebilirsiniz.
A3: Ders | B3: Ortalama doğru | C3: Ortalama yanlış | D3: Ortalama net | E3: 8-A | F3: 8-B
A4: Türkçe | B4: =IFERROR(AVERAGE(Cevaplar!E4:E503),"") | C4: =IFERROR(AVERAGE(Cevaplar!F4:F503),"") | D4: =IFERROR(AVERAGE(Cevaplar!G4:G503),"") | E4: =IFERROR(AVERAGEIF(Cevaplar!$C$4:$C$503,E$3,Cevaplar!G4:G503),"") | F4: =IFERROR(AVERAGEIF(Cevaplar!$C$4:$C$503,F$3,Cevaplar!G4:G503),"")
A5: İnkılap Tarihi | B5: =IFERROR(AVERAGE(Cevaplar!H4:H503),"") | C5: =IFERROR(AVERAGE(Cevaplar!I4:I503),"") | D5: =IFERROR(AVERAGE(Cevaplar!J4:J503),"") | E5: =IFERROR(AVERAGEIF(Cevaplar!$C$4:$C$503,E$3,Cevaplar!J4:J503),"") | F5: =IFERROR(AVERAGEIF(Cevaplar!$C$4:$C$503,F$3,Cevaplar!J4:J503),"")
A6: Din Kültürü | B6: =IFERROR(AVERAGE(Cevaplar!K4:K503),"") | C6: =IFERROR(AVERAGE(Cevaplar!L4:L503),"") | D6: =IFERROR(AVERAGE(Cevaplar!M4:M503),"") | E6: =IFERROR(AVERAGEIF(Cevaplar!$C$4:$C$503,E$3,Cevaplar!M4:M503),"") | F6: =IFERROR(AVERAGEIF(Cevaplar!$C$4:$C$503,F$3,Cevaplar!M4:M503),"")
A7: İngilizce | B7: =IFERROR(AVERAGE(Cevaplar!N4:N503),"") | C7: =IFERROR(AVERAGE(Cevaplar!O4:O503),"") | D7: =IFERROR(AVERAGE(Cevaplar!P4:P503),"") | E7: =IFERROR(AVERAGEIF(Cevaplar!$C$4:$C$503,E$3,Cevaplar!P4:P503),"") | F7: =IFERROR(AVERAGEIF(Cevaplar!$C$4:$C$503,F$3,Cevaplar!P4:P503),"")
A8: Matematik | B8: =IFERROR(AVERAGE(Cevaplar!Q4:Q503),"") | C8: =IFERROR(AVERAGE(Cevaplar!R4:R503),"") | D8: =IFERROR(AVERAGE(Cevaplar!S4:S503),"") | E8: =IFERROR(AVERAGEIF(Cevaplar!$C$4:$C$503,E$3,Cevaplar!S4:S503),"") | F8: =IFERROR(AVERAGEIF(Cevaplar!$C$4:$C$503,F$3,Cevaplar!S4:S503),"")
A9: Fen Bilimleri | B9: =IFERROR(AVERAGE(Cevaplar!T4:T503),"") | C9: =IFERROR(AVERAGE(Cevaplar!U4:U503),"") | D9: =IFERROR(AVERAGE(Cevaplar!V4:V503),"") | E9: =IFERROR(AVERAGEIF(Cevaplar!$C$4:$C$503,E$3,Cevaplar!V4:V503),"") | F9: =IFERROR(AVERAGEIF(Cevaplar!$C$4:$C$503,F$3,Cevaplar!V4:V503),"")
A10: Toplam net | D10: =IFERROR(AVERAGE(Cevaplar!W4:W503),"") | E10: =IFERROR(AVERAGEIF(Cevaplar!$C$4:$C$503,E$3,Cevaplar!W4:W503),"") | F10: =IFERROR(AVERAGEIF(Cevaplar!$C$4:$C$503,F$3,Cevaplar!W4:W503),"")

Sheet Kazanımlar
A1: Kazanım analizi
A2: Kazanım adlarını 'Cevap Anahtarı'ndaki yazımla aynı girin. Başarı yüzdesi = o kazanımdaki sorularda doğru cevap oranı.
A4: Ders | B4: Kazanım | C4: Soru sayısı | D4: Başarı yüzdesi
A5: Türkçe | B5: Sözcükte anlam | C5: =IF(B5="","",COUNTIF('Cevap Anahtarı'!$D$2:$D$121,B5)) | D5: =IF(OR(B5="",C5=0,Ayarlar!$B$7=0),"",SUMIF('Cevap Anahtarı'!$D$2:$D$121,B5,'Cevap Anahtarı'!$E$2:$E$121)/(C5*Ayarlar!$B$7))
A6: Türkçe | B6: Cümlede anlam | C6: =IF(B6="","",COUNTIF('Cevap Anahtarı'!$D$2:$D$121,B6)) | D6: =IF(OR(B6="",C6=0,Ayarlar!$B$7=0),"",SUMIF('Cevap Anahtarı'!$D$2:$D$121,B6,'Cevap Anahtarı'!$E$2:$E$121)/(C6*Ayarlar!$B$7))
A7: Türkçe | B7: Paragraf | C7: =IF(B7="","",COUNTIF('Cevap Anahtarı'!$D$2:$D$121,B7)) | D7: =IF(OR(B7="",C7=0,Ayarlar!$B$7=0),"",SUMIF('Cevap Anahtarı'!$D$2:$D$121,B7,'Cevap Anahtarı'!$E$2:$E$121)/(C7*Ayarlar!$B$7))
A8: Türkçe | B8: Fiilimsiler | C8: =IF(B8="","",COUNTIF('Cevap Anahtarı'!$D$2:$D$121,B8)) | D8: =IF(OR(B8="",C8=0,Ayarlar!$B$7=0),"",SUMIF('Cevap Anahtarı'!$D$2:$D$121,B8,'Cevap Anahtarı'!$E$2:$E$121)/(C8*Ayarlar!$B$7))
A9: İnkılap Tarihi | B9: Bir kahraman doğuyor | C9: =IF(B9="","",COUNTIF('Cevap Anahtarı'!$D$2:$D$121,B9)) | D9: =IF(OR(B9="",C9=0,Ayarlar!$B$7=0),"",SUMIF('Cevap Anahtarı'!$D$2:$D$121,B9,'Cevap Anahtarı'!$E$2:$E$121)/(C9*Ayarlar!$B$7))
A10: Din Kültürü | B10: Kader inancı | C10: =IF(B10="","",COUNTIF('Cevap Anahtarı'!$D$2:$D$121,B10)) | D10: =IF(OR(B10="",C10=0,Ayarlar!$B$7=0),"",SUMIF('Cevap Anahtarı'!$D$2:$D$121,B10,'Cevap Anahtarı'!$E$2:$E$121)/(C10*Ayarlar!$B$7))
A11: İngilizce | B11: Friendship | C11: =IF(B11="","",COUNTIF('Cevap Anahtarı'!$D$2:$D$121,B11)) | D11: =IF(OR(B11="",C11=0,Ayarlar!$B$7=0),"",SUMIF('Cevap Anahtarı'!$D$2:$D$121,B11,'Cevap Anahtarı'!$E$2:$E$121)/(C11*Ayarlar!$B$7))
A12: Matematik | B12: Çarpanlar ve katlar | C12: =IF(B12="","",COUNTIF('Cevap Anahtarı'!$D$2:$D$121,B12)) | D12: =IF(OR(B12="",C12=0,Ayarlar!$B$7=0),"",SUMIF('Cevap Anahtarı'!$D$2:$D$121,B12,'Cevap Anahtarı'!$E$2:$E$121)/(C12*Ayarlar!$B$7))
A13: Matematik | B13: Üslü ifadeler | C13: =IF(B13="","",COUNTIF('Cevap Anahtarı'!$D$2:$D$121,B13)) | D13: =IF(OR(B13="",C13=0,Ayarlar!$B$7=0),"",SUMIF('Cevap Anahtarı'!$D$2:$D$121,B13,'Cevap Anahtarı'!$E$2:$E$121)/(C13*Ayarlar!$B$7))
A14: Fen Bilimleri | B14: Mevsimler ve iklim | C14: =IF(B14="","",COUNTIF('Cevap Anahtarı'!$D$2:$D$121,B14)) | D14: =IF(OR(B14="",C14=0,Ayarlar!$B$7=0),"",SUMIF('Cevap Anahtarı'!$D$2:$D$121,B14,'Cevap Anahtarı'!$E$2:$E$121)/(C14*Ayarlar!$B$7))
A15: Fen Bilimleri | B15: DNA ve genetik kod | C15: =IF(B15="","",COUNTIF('Cevap Anahtarı'!$D$2:$D$121,B15)) | D15: =IF(OR(B15="",C15=0,Ayarlar!$B$7=0),"",SUMIF('Cevap Anahtarı'!$D$2:$D$121,B15,'Cevap Anahtarı'!$E$2:$E$121)/(C15*Ayarlar!$B$7))
C16: =IF(B16="","",COUNTIF('Cevap Anahtarı'!$D$2:$D$121,B16)) | D16: =IF(OR(B16="",C16=0,Ayarlar!$B$7=0),"",SUMIF('Cevap Anahtarı'!$D$2:$D$121,B16,'Cevap Anahtarı'!$E$2:$E$121)/(C16*Ayarlar!$B$7))
C17: =IF(B17="","",COUNTIF('Cevap Anahtarı'!$D$2:$D$121,B17)) | D17: =IF(OR(B17="",C17=0,Ayarlar!$B$7=0),"",SUMIF('Cevap Anahtarı'!$D$2:$D$121,B17,'Cevap Anahtarı'!$E$2:$E$121)/(C17*Ayarlar!$B$7))
C18: =IF(B18="","",COUNTIF('Cevap Anahtarı'!$D$2:$D$121,B18)) | D18: =IF(OR(B18="",C18=0,Ayarlar!$B$7=0),"",SUMIF('Cevap Anahtarı'!$D$2:$D$121,B18,'Cevap Anahtarı'!$E$2:$E$121)/(C18*Ayarlar!$B$7))
C19: =IF(B19="","",COUNTIF('Cevap Anahtarı'!$D$2:$D$121,B19)) | D19: =IF(OR(B19="",C19=0,Ayarlar!$B$7=0),"",SUMIF('Cevap Anahtarı'!$D$2:$D$121,B19,'Cevap Anahtarı'!$E$2:$E$121)/(C19*Ayarlar!$B$7))
C20: =IF(B20="","",COUNTIF('Cevap Anahtarı'!$D$2:$D$121,B20)) | D20: =IF(OR(B20="",C20=0,Ayarlar!$B$7=0),"",SUMIF('Cevap Anahtarı'!$D$2:$D$121,B20,'Cevap Anahtarı'!$E$2:$E$121)/(C20*Ayarlar!$B$7))
C21: =IF(B21="","",COUNTIF('Cevap Anahtarı'!$D$2:$D$121,B21)) | D21: =IF(OR(B21="",C21=0,Ayarlar!$B$7=0),"",SUMIF('Cevap Anahtarı'!$D$2:$D$121,B21,'Cevap Anahtarı'!$E$2:$E$121)/(C21*Ayarlar!$B$7))
C22: =IF(B22="","",COUNTIF('Cevap Anahtarı'!$D$2:$D$121,B22)) | D22: =IF(OR(B22="",C22=0,Ayarlar!$B$7=0),"",SUMIF('Cevap Anahtarı'!$D$2:$D$121,B22,'Cevap Anahtarı'!$E$2:$E$121)/(C22*Ayarlar!$B$7))
C23: =IF(B23="","",COUNTIF('Cevap Anahtarı'!$D$2:$D$121,B23)) | D23: =IF(OR(B23="",C23=0,Ayarlar!$B$7=0),"",SUMIF('Cevap Anahtarı'!$D$2:$D$121,B23,'Cevap Anahtarı'!$E$2:$E$121)/(C23*Ayarlar!$B$7))
C24: =IF(B24="","",COUNTIF('Cevap Anahtarı'!$D$2:$D$121,B24)) | D24: =IF(OR(B24="",C24=0,Ayarlar!$B$7=0),"",SUMIF('Cevap Anahtarı'!$D$2:$D$121,B24,'Cevap Anahtarı'!$E$2:$E$121)/(C24*Ayarlar!$B$7))
C25: =IF(B25="","",COUNTIF('Cevap Anahtarı'!$D$2:$D$121,B25)) | D25: =IF(OR(B25="",C25=0,Ayarlar!$B$7=0),"",SUMIF('Cevap Anahtarı'!$D$2:$D$121,B25,'Cevap Anahtarı'!$E$2:$E$121)/(C25*Ayarlar!$B$7))
C26: =IF(B26="","",COUNTIF('Cevap Anahtarı'!$D$2:$D$121,B26)) | D26: =IF(OR(B26="",C26=0,Ayarlar!$B$7=0),"",SUMIF('Cevap Anahtarı'!$D$2:$D$121,B26,'Cevap Anahtarı'!$E$2:$E$121)/(C26*Ayarlar!$B$7))
C27: =IF(B27="","",COUNTIF('Cevap Anahtarı'!$D$2:$D$121,B27)) | D27: =IF(OR(B27="",C27=0,Ayarlar!$B$7=0),"",SUMIF('Cevap Anahtarı'!$D$2:$D$121,B27,'Cevap Anahtarı'!$E$2:$E$121)/(C27*Ayarlar!$B$7))
... C35: =IF(B35="","",COUNTIF('Cevap Anahtarı'!$D$2:$D$121,B35)) | D35: =IF(OR(B35="",C35=0,Ayarlar!$B$7=0),"",SUMIF('Cevap Anahtarı'!$D$2:$D$121,B35,'Cevap Anahtarı'!$E$2:$E$121)/(C35*Ayarlar!$B$7))
